BEGIN:VCALENDAR
VERSION:2.0
PRODID:-//Comic Quest - ECPv6.15.20//NONSGML v1.0//EN
CALSCALE:GREGORIAN
METHOD:PUBLISH
X-WR-CALNAME:Comic Quest
X-ORIGINAL-URL:https://comicquest.org
X-WR-CALDESC:Events for Comic Quest
REFRESH-INTERVAL;VALUE=DURATION:PT1H
X-Robots-Tag:noindex
X-PUBLISHED-TTL:PT1H
BEGIN:VTIMEZONE
TZID:Asia/Shanghai
BEGIN:STANDARD
TZOFFSETFROM:+0800
TZOFFSETTO:+0800
TZNAME:CST
DTSTART:20250101T000000
END:STANDARD
END:VTIMEZONE
BEGIN:VEVENT
DTSTART;VALUE=DATE:20260730
DTEND;VALUE=DATE:20260731
DTSTAMP:20260423T123343
CREATED:20250808T142829Z
LAST-MODIFIED:20250808T142829Z
UID:10003299-1785369600-1785455999@comicquest.org
SUMMARY:Wolverine Day
DESCRIPTION:  \n \nJuly 30th is the accepted date for the release of Incredible Hulk #181 by Len Wein\, Herb Trimpe\, and Jack Abel\, a comic book whose title might give you a hint as to what it is about\, as it was titled…”And now…The Wolverine!”
URL:https://comicquest.org/event/wolverine-day-3/2026-07-30/
LOCATION:Comic Quest\, 23811 Bridger #111 CA 92630\, Lake Forest\, CA\, 92630\, United States
CATEGORIES:Event
ATTACH;FMTTYPE=image/png:https://comicquest.org/wp-content/uploads/2024/07/wolverine-day-july-30-banner.png
END:VEVENT
BEGIN:VEVENT
DTSTART;VALUE=DATE:20270730
DTEND;VALUE=DATE:20270731
DTSTAMP:20260423T123343
CREATED:20250808T142829Z
LAST-MODIFIED:20250808T142829Z
UID:10003300-1816905600-1816991999@comicquest.org
SUMMARY:Wolverine Day
DESCRIPTION:  \n \nJuly 30th is the accepted date for the release of Incredible Hulk #181 by Len Wein\, Herb Trimpe\, and Jack Abel\, a comic book whose title might give you a hint as to what it is about\, as it was titled…”And now…The Wolverine!”
URL:https://comicquest.org/event/wolverine-day-3/2027-07-30/
LOCATION:Comic Quest\, 23811 Bridger #111 CA 92630\, Lake Forest\, CA\, 92630\, United States
CATEGORIES:Event
ATTACH;FMTTYPE=image/png:https://comicquest.org/wp-content/uploads/2024/07/wolverine-day-july-30-banner.png
END:VEVENT
BEGIN:VEVENT
DTSTART;VALUE=DATE:20280730
DTEND;VALUE=DATE:20280731
DTSTAMP:20260423T123343
CREATED:20250808T142829Z
LAST-MODIFIED:20250808T142829Z
UID:10003301-1848528000-1848614399@comicquest.org
SUMMARY:Wolverine Day
DESCRIPTION:  \n \nJuly 30th is the accepted date for the release of Incredible Hulk #181 by Len Wein\, Herb Trimpe\, and Jack Abel\, a comic book whose title might give you a hint as to what it is about\, as it was titled…”And now…The Wolverine!”
URL:https://comicquest.org/event/wolverine-day-3/2028-07-30/
LOCATION:Comic Quest\, 23811 Bridger #111 CA 92630\, Lake Forest\, CA\, 92630\, United States
CATEGORIES:Event
ATTACH;FMTTYPE=image/png:https://comicquest.org/wp-content/uploads/2024/07/wolverine-day-july-30-banner.png
END:VEVENT
BEGIN:VEVENT
DTSTART;VALUE=DATE:20290730
DTEND;VALUE=DATE:20290731
DTSTAMP:20260423T123343
CREATED:20250808T142829Z
LAST-MODIFIED:20250808T142829Z
UID:10003302-1880064000-1880150399@comicquest.org
SUMMARY:Wolverine Day
DESCRIPTION:  \n \nJuly 30th is the accepted date for the release of Incredible Hulk #181 by Len Wein\, Herb Trimpe\, and Jack Abel\, a comic book whose title might give you a hint as to what it is about\, as it was titled…”And now…The Wolverine!”
URL:https://comicquest.org/event/wolverine-day-3/2029-07-30/
LOCATION:Comic Quest\, 23811 Bridger #111 CA 92630\, Lake Forest\, CA\, 92630\, United States
CATEGORIES:Event
ATTACH;FMTTYPE=image/png:https://comicquest.org/wp-content/uploads/2024/07/wolverine-day-july-30-banner.png
END:VEVENT
BEGIN:VEVENT
DTSTART;VALUE=DATE:20300730
DTEND;VALUE=DATE:20300731
DTSTAMP:20260423T123343
CREATED:20250808T142829Z
LAST-MODIFIED:20250808T142829Z
UID:10003303-1911600000-1911686399@comicquest.org
SUMMARY:Wolverine Day
DESCRIPTION:  \n \nJuly 30th is the accepted date for the release of Incredible Hulk #181 by Len Wein\, Herb Trimpe\, and Jack Abel\, a comic book whose title might give you a hint as to what it is about\, as it was titled…”And now…The Wolverine!”
URL:https://comicquest.org/event/wolverine-day-3/2030-07-30/
LOCATION:Comic Quest\, 23811 Bridger #111 CA 92630\, Lake Forest\, CA\, 92630\, United States
CATEGORIES:Event
ATTACH;FMTTYPE=image/png:https://comicquest.org/wp-content/uploads/2024/07/wolverine-day-july-30-banner.png
END:VEVENT
END:VCALENDAR