BEGIN:VCALENDAR
VERSION:2.0
PRODID:-//Comic Quest - ECPv6.15.20//NONSGML v1.0//EN
CALSCALE:GREGORIAN
METHOD:PUBLISH
X-ORIGINAL-URL:https://comicquest.org
X-WR-CALDESC:Events for Comic Quest
REFRESH-INTERVAL;VALUE=DURATION:PT1H
X-Robots-Tag:noindex
X-PUBLISHED-TTL:PT1H
BEGIN:VTIMEZONE
TZID:America/Los_Angeles
BEGIN:DAYLIGHT
TZOFFSETFROM:-0800
TZOFFSETTO:-0700
TZNAME:PDT
DTSTART:20230312T100000
END:DAYLIGHT
BEGIN:STANDARD
TZOFFSETFROM:-0700
TZOFFSETTO:-0800
TZNAME:PST
DTSTART:20231105T090000
END:STANDARD
BEGIN:DAYLIGHT
TZOFFSETFROM:-0800
TZOFFSETTO:-0700
TZNAME:PDT
DTSTART:20240310T100000
END:DAYLIGHT
BEGIN:STANDARD
TZOFFSETFROM:-0700
TZOFFSETTO:-0800
TZNAME:PST
DTSTART:20241103T090000
END:STANDARD
BEGIN:DAYLIGHT
TZOFFSETFROM:-0800
TZOFFSETTO:-0700
TZNAME:PDT
DTSTART:20250309T100000
END:DAYLIGHT
BEGIN:STANDARD
TZOFFSETFROM:-0700
TZOFFSETTO:-0800
TZNAME:PST
DTSTART:20251102T090000
END:STANDARD
END:VTIMEZONE
BEGIN:VTIMEZONE
TZID:UTC
BEGIN:STANDARD
TZOFFSETFROM:+0000
TZOFFSETTO:+0000
TZNAME:UTC
DTSTART:20230101T000000
END:STANDARD
END:VTIMEZONE
BEGIN:VEVENT
DTSTART;TZID=America/Los_Angeles:20240112T120000
DTEND;TZID=America/Los_Angeles:20240112T190000
DTSTAMP:20260425T201908
CREATED:20231026T010147Z
LAST-MODIFIED:20240102T223831Z
UID:10000620-1705060800-1705086000@comicquest.org
SUMMARY:Launch Event - Magic - Ravnica Remastered
DESCRIPTION:Launch Event: \nComic Quest at 6pm \n\n\n\n\n  \n\n 
URL:https://comicquest.org/event/magic-prerelease-magic-ravnica-remastered/
LOCATION:Comic Quest\, 23811 Bridger #111 CA 92630\, Lake Forest\, CA\, 92630\, United States
CATEGORIES:Event,Magic,Tournament
ATTACH;FMTTYPE=image/jpeg:https://comicquest.org/wp-content/uploads/2023/03/magic_prerelease.jpg
END:VEVENT
BEGIN:VEVENT
DTSTART;VALUE=DATE:20240113
DTEND;VALUE=DATE:20240114
DTSTAMP:20260425T201908
CREATED:20231223T012936Z
LAST-MODIFIED:20240107T184156Z
UID:10000636-1705104000-1705190399@comicquest.org
SUMMARY:Warhammer 40\,000
DESCRIPTION:Warhammer 40\,000 Event \nComic Quest pre-LVO RTT. Get some practice in. \nSaturday\, January 13\, 10:00am start. \n2\,000 points \n$17 Entry Fee \nSign-up BCP (Best Coast Pairings) – link below. \nhttps://www.bestcoastpairings.com/event/GMYTQBBQEU \nWarhammer 40\,000 Gameplay! Come and join the fun!
URL:https://comicquest.org/event/warhammer-40000-10/
LOCATION:Comic Quest\, 23811 Bridger #111 CA 92630\, Lake Forest\, CA\, 92630\, United States
CATEGORIES:40K,Event,Tournament
ATTACH;FMTTYPE=image/jpeg:https://comicquest.org/wp-content/uploads/2023/01/40k-logo.jpg
END:VEVENT
BEGIN:VEVENT
DTSTART;VALUE=DATE:20240114
DTEND;VALUE=DATE:20240115
DTSTAMP:20260425T201908
CREATED:20231228T010511Z
LAST-MODIFIED:20240109T213409Z
UID:10000648-1705190400-1705276799@comicquest.org
SUMMARY:Warhammer Age of Sigmar - Path to Glory
DESCRIPTION:Warhammer Age of Sigmar \nPath to Glory \nAge of Sigmar PATH TO GLORY escalation league – launch event.\n\n\nSunday Jan 14\, 11:00am.\n\n\n700 points army to start.\n\n\nShort\, 3 rounds. Not an RTT. Using the Path to Glory rules. Mini RTT if you will. *See note below.\n\n\nMeet and greet for the league. Questions answered. Great for all levels of players.\n\n\nSign-ups preferred to guarantee your spot.\n\n\nSign up today – in store!!\n\n\nNo entry free.\n\n\nJoin the CQ AoS discord for more info. https://discord.gg/aPNxrKwM5u\n\n\nNot an actual RTT\, just that it will be 3 rounds like an RTT.\nThe smaller point size of starting armies will make the games much faster than a normal RTT\, and with smaller boards more games can be going. Also\, it will be using the path to glory rules rather than matched play / tournament pack rules (unless someone decides otherwise)
URL:https://comicquest.org/event/warhammer-age-of-sigmar-path-to-glory-3/
LOCATION:Comic Quest\, 23811 Bridger #111 CA 92630\, Lake Forest\, CA\, 92630\, United States
CATEGORIES:Event,Tournament,Warhammer Age of SIgmar
ATTACH;FMTTYPE=image/jpeg:https://comicquest.org/wp-content/uploads/2023/03/age_of_sigmar.jpg
END:VEVENT
BEGIN:VEVENT
DTSTART;VALUE=DATE:20240127
DTEND;VALUE=DATE:20240128
DTSTAMP:20260425T201908
CREATED:20231223T013704Z
LAST-MODIFIED:20240123T010300Z
UID:10000643-1706313600-1706399999@comicquest.org
SUMMARY:Battletech
DESCRIPTION:Battletech Tournament \nSaturday Jan 27th.  11am \nCost: FREE \nEvent Listing in Facebook Comic Quest Battletech.  Here is the link. \nhttps://fb.me/e/3BvYDwUFv \n  \n  \nBLAKE ATTACKS! \nSITUATION\nTraining Ground Tiger\, Sian Center for Martial Disciplines 7 January 3074\nEnjoying a normal day like any other since the last Blakist attack nearly four years ago\, Capellan defenders had been lulled into a false sense of security. Knowing their deep-space patrols would alert them to any impending arrivals should the Blakists decide to attack again\, many of the ground patrols became lax.\nWhat they did not realize was that the Word of Blake was already planetside; Confederation defenders did not comprehend what was happening until patrols started to disappear in rapid succession. \n  \nGAME SETUP\nRecommended Terrain: Wetlands\, Forest\, Training Grounds\nAttacker\nRecommended Forces: Eighth Division\, Twenty-fourth Division\nThe Attacker (800PV) begins by entering at least half of their force from their designated home edge on Turn 1. The other half deploys as Hidden Units (see p. 168\, AS:CE) anywhere on the battlefield.\nDefender\nRecommended Forces: House Imarra\, Third Canopian Fusiliers\, Red Lancers\nThe Defender (800PV) may set up anywhere on the battlefield\, but not closer than 20″ from the Attacker’s home edge. All other edges are considered the Defender’s home edge.\nRandomly place or designate four turret-mounted large lasers (6 Armor\, 1 Structure\, 1/1/0) on the center on the map within 18″ and LOS of at least one other turret. Secretly designate one turret as the master control tower. See Live Fire Training\, below. \n  \nOBJECTIVES\n1. Breakthrough! At least a third of a player’s force must exit\nthe map via one of the opposing player’s home edge(s). (Reward: 400)\n2. Annihilation. Cripple/Destroy over 75 percent of the opposi- tion’s entire force. (Reward: 700) \nSPECIAL RULES\nThe following rules are in effect for this track:\nLive Fire Training\nThe buildings are considered to be part of a C3 network; three turrets have fire control computers that function exactly like a C3 Slave Module; the master control tower functions exactly like a C3 Master Computer. When attacking\, each turret is considered to have a Gunnery of 5. The turrets are part of an automated network and automatically attack the closest unit (Attacker or Defender) within range and LOS of each turret. When multiple targets are present\, the turret attacks the heaviest target; in the case of ties\, roll randomly to determine which unit to attack. \nHouse Rules/Options:\nMultiple Attack Rolls (AS:CE 175)\nForced Withdrawal (AS:CE 126) \nAFTERMATH\nIt all happened so fast. The small patrols were eliminated so quickly\, many did not get off an alert to their command posts\, and those that did found their command posts were under attack as well.\nIn fact it was so swift that when the Word of Blake forces attacked the Sian Center for Martial Discipline\, the House Imarra group training there thought it was a surprise quiz held by the Center’s instructors—until their comrades started dying. \n  \n  \n  \n  \n 
URL:https://comicquest.org/event/battletech-4/
LOCATION:Comic Quest\, 23811 Bridger #111 CA 92630\, Lake Forest\, CA\, 92630\, United States
CATEGORIES:Battletech,Event,Tournament
ATTACH;FMTTYPE=image/jpeg:https://comicquest.org/wp-content/uploads/2023/03/Battletech_logo.jpg
END:VEVENT
BEGIN:VEVENT
DTSTART;VALUE=DATE:20240128
DTEND;VALUE=DATE:20240129
DTSTAMP:20260425T201908
CREATED:20231221T214248Z
LAST-MODIFIED:20240122T054926Z
UID:10000635-1706400000-1706486399@comicquest.org
SUMMARY:Star Wars Legion
DESCRIPTION:Star Legion \nStar Wars Legion Tournament \nSaturday Jan 28. 11am. \n  \nFull size games at 800 pts.\n3 rounds; but only 2 hours max. a round.\nStart time is 11 am registration\, 11:15 round start. 6pm end awards.\nCost $10\, prize pool store credit. Possible Organized play kit prize support. \nSign up: Game Uplink\nhttps://legion.gameuplink.com/…/comic-quest-january…/…\nLatest Legion docs & rules:\nhttps://www.atomicmassgames.com/star-wars-legion-documents\nLegion army listbuilders:\nhttps://tabletopadmiral.com/\nhttps://legionhq.thefifthtrooper.com/ \n  \n 
URL:https://comicquest.org/event/star-wars-legion-7/
LOCATION:Comic Quest\, 23811 Bridger #111 CA 92630\, Lake Forest\, CA\, 92630\, United States
CATEGORIES:Event,Star Wars Legion,Tournament
ATTACH;FMTTYPE=image/png:https://comicquest.org/wp-content/uploads/2023/03/star_wars_legion_image.png
END:VEVENT
END:VCALENDAR