BEGIN:VCALENDAR
VERSION:2.0
PRODID:-//Comic Quest - ECPv6.15.20//NONSGML v1.0//EN
CALSCALE:GREGORIAN
METHOD:PUBLISH
X-WR-CALNAME:Comic Quest
X-ORIGINAL-URL:https://comicquest.org
X-WR-CALDESC:Events for Comic Quest
REFRESH-INTERVAL;VALUE=DURATION:PT1H
X-Robots-Tag:noindex
X-PUBLISHED-TTL:PT1H
BEGIN:VTIMEZONE
TZID:UTC
BEGIN:STANDARD
TZOFFSETFROM:+0000
TZOFFSETTO:+0000
TZNAME:UTC
DTSTART:20240101T000000
END:STANDARD
END:VTIMEZONE
BEGIN:VEVENT
DTSTART;VALUE=DATE:20250301
DTEND;VALUE=DATE:20250302
DTSTAMP:20260424T124357
CREATED:20241228T043512Z
LAST-MODIFIED:20241228T043512Z
UID:10001432-1740787200-1740873599@comicquest.org
SUMMARY:Mini Club Turn In - Centaur Lord
DESCRIPTION:Every two months we select a unique miniature\, and offer it for 25% Off for everyone.   Then at the end of the period\, painters turn their miniatures in for an exhibition. Everyone paints the same miniature\, but do in in unique ways.  Color choices\, techniques\, conversation\, etc. \nThe new mini club is available. \nDruid Sophie With Ottley \nTurn in is Saturday Mar 1st. \n\n\n\n\n\nTurn in you mini on Saturday\nWe take glamour shots of all the minis that night\nLeave your mini for display (if you can) for a few days.\nThen sometime during the week pick up your mini\, and you get another mini for FREE!\n\n  \n  \n 
URL:https://comicquest.org/event/mini-club-turn-in-centaur-lord/
LOCATION:Comic Quest\, 23811 Bridger #111 CA 92630\, Lake Forest\, CA\, 92630\, United States
CATEGORIES:Event,Mini Club
ATTACH;FMTTYPE=image/png:https://comicquest.org/wp-content/uploads/2024/12/banner-centaur-lord-mar-2025.png
END:VEVENT
BEGIN:VEVENT
DTSTART;TZID=UTC:20250301T093000
DTEND;TZID=UTC:20250301T180000
DTSTAMP:20260424T124357
CREATED:20250124T093010Z
LAST-MODIFIED:20250209T012500Z
UID:10001460-1740821400-1740852000@comicquest.org
SUMMARY:Star Wars Shatterpoint Tournament
DESCRIPTION:Star Wars Shatterpoint Tournament \n\n\n\n\n\n\nCome join us at Comic Quest in Lake Forest for a Star Wars Shatterpoint Tournament!\n\n\n\nSaturday\, March 1\n9:30 am = Registration\n10 am = Round 1\n\nDetails \n– $15 Entry Fee – All $$ goes to prize pool (CQ store credit) \n– If you have Terrain and a mat\, please bring it or check with TO: Eric Del Priore. \n– You may bring \n\n2 squads (a normal strike force) OR\n4 (a premiere list). If you opt to bring 4 squads\, you must follow the premiere format rules (each squad must be played once).\n\nPlease register on longshanks in advance. Link: https://www.longshanks.org/event/22973/ \nJoin our CQ General Discord\, and scroll to the Star Wars Shatterpoint Channel section. \n  \n\n 
URL:https://comicquest.org/event/star-wars-shatterpoint-tournament-2/
LOCATION:Comic Quest\, 23811 Bridger #111 CA 92630\, Lake Forest\, CA\, 92630\, United States
CATEGORIES:Event,Star Wars Shatterpoint,Tournament
ATTACH;FMTTYPE=image/png:https://comicquest.org/wp-content/uploads/2023/05/shatterpoint_logo.png
END:VEVENT
BEGIN:VEVENT
DTSTART;TZID=UTC:20250302T110000
DTEND;TZID=UTC:20250302T190000
DTSTAMP:20260424T124357
CREATED:20241229T005412Z
LAST-MODIFIED:20250302T192557Z
UID:10001434-1740913200-1740942000@comicquest.org
SUMMARY:Battletech Tournament
DESCRIPTION:SAVE THE DATE \nBATTLETECH TOURNAMENT \nSUNDAY March 2nd 11:00am \nWe’ll be using the new CGL Grinder Kit!11:00 arrival/setup11:30 review rules/begin1:30 lunch break6:30 dice down and clean up \n  \nEvent Listing in Facebook Comic Quest Battletech. \nCheck out our Discord: https://discord.gg/vSTcxRYW \nhttps://www.facebook.com/groups/610373476205534 \n*Please RSVP sign up on our Facebook Event or in our Discord. \n  \n  \n  \n  \n 
URL:https://comicquest.org/event/battletech-tournament/
LOCATION:Comic Quest\, 23811 Bridger #111 CA 92630\, Lake Forest\, CA\, 92630\, United States
CATEGORIES:Battletech,Event,Tournament
ATTACH;FMTTYPE=image/jpeg:https://comicquest.org/wp-content/uploads/2023/03/Battletech_logo.jpg
END:VEVENT
BEGIN:VEVENT
DTSTART;VALUE=DATE:20250307
DTEND;VALUE=DATE:20250308
DTSTAMP:20260424T124357
CREATED:20241219T043708Z
LAST-MODIFIED:20250211T211156Z
UID:10001420-1741305600-1741391999@comicquest.org
SUMMARY:Star Wars Unlimited - Jump to Lightspeed
DESCRIPTION:Star Wars Unlimited-Jump to Lightspeed \n \n  \nStar Wars Unlimited-JUMP TO LIGHTSPEED – PreRelease & Product PreOrders. \nSAVE THE DATE \nPrerelease Event = Sat March 8  11:00am. Sign ups available now in store \nEntry Fee = $26.99 + tax. Includes PreRelease Kit. \n*Product available for Preorders – in store: \n– SW Unlimited Jump to Lightspeed = Carbonite Booster Box = $299.88\n– SW Unlimited Jump to Lightspeed = Standard Booster Box = $92.99\n– SW Unlimited Jump to Lightspeed = Individual Starter Decks = Han Solo = $24.99\n– SW Unlimited Jump to Lightspeed = Individual Starter Decks = Boba Fett = $24.99 \nProduct launches Fri March 7. PreRelease Event Sat March 8 \nMay the Force Be With You! \n\n\n\nGet your hands on the new cards before they are available to the general public the following week.  See the cards in action before anyone else.  See popular characters fight for your amusement. Great for new players to the game and folks who have been already been playing. Easy to jump in anytime. There are starter decks as well as boosters for easy entry. \n  \n 
URL:https://comicquest.org/event/star-wars-unlimited-new-set-release/
LOCATION:Comic Quest\, 23811 Bridger #111 CA 92630\, Lake Forest\, CA\, 92630\, United States
CATEGORIES:Event,Star Wars Unlimited,Tournament
ATTACH;FMTTYPE=image/jpeg:https://comicquest.org/wp-content/uploads/2024/12/SWH04_HobbyStoreSocial_1080x1080.jpg
END:VEVENT
BEGIN:VEVENT
DTSTART;TZID=UTC:20250308T110000
DTEND;TZID=UTC:20250308T160000
DTSTAMP:20260424T124357
CREATED:20241229T231244Z
LAST-MODIFIED:20250210T234336Z
UID:10001440-1741431600-1741449600@comicquest.org
SUMMARY:Star Wars Unlimited Prerelease -Jump to Lightspeed
DESCRIPTION:Star Wars Unlimited-JUMP TO LIGHTSPEED – PreRelease & Product PreOrders. \nSAVE THE DATE \nPrerelease Event = Sat March 8  11:00am. Sign ups available now in store \nEntry Fee = $26.99 + tax. Includes PreRelease Kit. \n*Product available for Preorders – in store: \n– SW Unlimited Jump to Lightspeed = Carbonite Booster Box = $299.88\n– SW Unlimited Jump to Lightspeed = Standard Booster Box = $92.99\n– SW Unlimited Jump to Lightspeed = Individual Starter Decks = Han Solo = $24.99\n– SW Unlimited Jump to Lightspeed = Individual Starter Decks = Boba Fett = $24.99 \nProduct launches Fri March 7. PreRelease Event Sat March 8 \nMay the Force Be With You! \n\n\n\nGet your hands on the new cards before they are available to the general public the following week.  See the cards in action before anyone else.  See popular characters fight for your amusement. Great for new players to the game and folks who have been already been playing. Easy to jump in anytime. There are starter decks as well as boosters for easy entry. \n  \n  \n  \n  \n 
URL:https://comicquest.org/event/star-wars-unlimited-prerelease-jump-to-lightspeed/
LOCATION:Comic Quest\, 23811 Bridger #111 CA 92630\, Lake Forest\, CA\, 92630\, United States
CATEGORIES:Event,Star Wars Unlimited
ATTACH;FMTTYPE=image/jpeg:https://comicquest.org/wp-content/uploads/2023/10/star-wars-unlimited.jpg
END:VEVENT
BEGIN:VEVENT
DTSTART;TZID=UTC:20250315T100000
DTEND;TZID=UTC:20250315T193000
DTSTAMP:20260424T124357
CREATED:20241220T010849Z
LAST-MODIFIED:20250314T184904Z
UID:10001422-1742032800-1742067000@comicquest.org
SUMMARY:Conquest Casual Tournament
DESCRIPTION:Conquest Casual Tournament \nSaturday MARCH 15th \nRegistration: 10:00am \nGames Start time: 10:30am sharp \nEntry fee: $10.00 \nFormat: 3 Rounds\, Ranked. 2000 points using latest published rules. \nNo Painting Requirement: (Prize for best painted\, however!) \nSign-ups: Longshanks https://www.longshanks.org/event/23638/ \nPrizes & Aghm Points! \n 
URL:https://comicquest.org/event/conquest-casual-tournament-3/
LOCATION:Comic Quest\, 23811 Bridger #111 CA 92630\, Lake Forest\, CA\, 92630\, United States
CATEGORIES:Conquest,Event,Tournament
ATTACH;FMTTYPE=image/webp:https://comicquest.org/wp-content/uploads/2024/03/conquest_logo.webp
END:VEVENT
BEGIN:VEVENT
DTSTART;TZID=UTC:20250316T103000
DTEND;TZID=UTC:20250316T193000
DTSTAMP:20260424T124357
CREATED:20250102T064232Z
LAST-MODIFIED:20250209T010606Z
UID:10001443-1742121000-1742153400@comicquest.org
SUMMARY:Kill Team Tournament
DESCRIPTION:Kill Team Tournament \nSunday March 16\, 2025 \n\nCheck-in = 10:30am\nRound 1 starts = 11:00am\nEntry Fee = $10.00. Goes to Prize Support\n\nSign up  = Link & Details  on Longshanks: https://www.longshanks.org/event/23326/ \n\n  \n\n  \n  \n \n  \n  \n  \n 
URL:https://comicquest.org/event/kill-team-tournament/
LOCATION:Comic Quest\, 23811 Bridger #111 CA 92630\, Lake Forest\, CA\, 92630\, United States
CATEGORIES:40K,Event,Tournament
ATTACH;FMTTYPE=image/jpeg:https://comicquest.org/wp-content/uploads/2023/03/Killteam.jpg
END:VEVENT
BEGIN:VEVENT
DTSTART;TZID=UTC:20250322T100000
DTEND;TZID=UTC:20250322T140000
DTSTAMP:20260424T124357
CREATED:20250313T015745Z
LAST-MODIFIED:20250322T003429Z
UID:10001497-1742637600-1742652000@comicquest.org
SUMMARY:Star Wars Shatterpoint Learn to Play
DESCRIPTION:Star Wars Shatterpoint \nStar Wars Shatterpoint Learn to Play ! \nSATURDAY\, March 22\, 10am to 2pm \n*Come try out this cool Star Wars Shatterpoint miniatures game! It’s a smaller game play space. Capture the flag. Using your favorite Star Wars characters and teams. \n*Learn to Play games *Demo games \n**Comic Quest will provide the miniatures\, and terrain and everything you need!!! \n*If you have your own Shatterpoint Core Set or Minis – you can bring them too. \n*NO Entry fee! Just come and play. \n 
URL:https://comicquest.org/event/star-wars-shatterpoint-learn-to-play-2/
LOCATION:Comic Quest\, 23811 Bridger #111 CA 92630\, Lake Forest\, CA\, 92630\, United States
CATEGORIES:Event,Star Wars Shatterpoint,Tournament
ATTACH;FMTTYPE=image/png:https://comicquest.org/wp-content/uploads/2023/05/shatterpoint_logo.png
END:VEVENT
BEGIN:VEVENT
DTSTART;TZID=UTC:20250323T093000
DTEND;TZID=UTC:20250323T183000
DTSTAMP:20260424T124357
CREATED:20241215T020536Z
LAST-MODIFIED:20250317T035656Z
UID:10001413-1742722200-1742754600@comicquest.org
SUMMARY:Star Wars Legion Tournament
DESCRIPTION:Star Wars Legion Tournament \nSunday March 23.   \n\nCheck-in/Registration = 9:30am\nRound 1 Start = 10:00am sharp\n\n3 rounds of normal 1000 point armies.   Casual Event \nSign up and Info at: https://legion.longshanks.org/event/24178/ \n\n\n$10 Dollar Entry fee – goes to prize support.\n\n\nCheck In\n9:30 am- 9:45 am (15 Minute)\nRound 1\n10 am- 12:30 pm (2 Hour\, 30 Min)\nLunch\n12:30pm- 1:10 pm (40 Min)\nRound 2\n1:15pm- 3:45pm (2 Hour\, 30 Min)\nRound 3\n3:50pm- 6:10pm (2 Hour\, 30 Min)\n\n\n\n\n  \n 
URL:https://comicquest.org/event/star-wars-legion-tournament-edit-date-before-publish/
LOCATION:Comic Quest\, 23811 Bridger #111 CA 92630\, Lake Forest\, CA\, 92630\, United States
CATEGORIES:Event,Star Wars Legion,Tournament
ATTACH;FMTTYPE=image/png:https://comicquest.org/wp-content/uploads/2023/03/star_wars_legion_image.png
END:VEVENT
BEGIN:VEVENT
DTSTART;TZID=UTC:20250329T093000
DTEND;TZID=UTC:20250329T193000
DTSTAMP:20260424T124357
CREATED:20241114T222448Z
LAST-MODIFIED:20250325T211448Z
UID:10001340-1743240600-1743276600@comicquest.org
SUMMARY:Warhammer 40k RTT Tourney
DESCRIPTION:Comic Quest 40k RTT Tourney by Dicehammer. \nSaturday MARCH 29th \nEntry Fee: $22. \nSet up: 9:30am \nRound 1 starts: 10:00am \n3 round ITC event. Missions and GW terrain layout TBD. \n2\,000 points. All players will receive 10 points for being Battle Ready. \n2h45m rounds. 30 minute lunch. Round 1 starts at 10AM. Chess clocks are recommended to keep games on track. \nMore Details & Sign-ups on BCP: https://www.bestcoastpairings.com/event/h59laY2hs20T
URL:https://comicquest.org/event/warhammer-40k-rtt-tourney-2/
LOCATION:Comic Quest\, 23811 Bridger #111 CA 92630\, Lake Forest\, CA\, 92630\, United States
CATEGORIES:40K,Event,Tournament
ATTACH;FMTTYPE=image/jpeg:https://comicquest.org/wp-content/uploads/2023/01/40k-logo.jpg
END:VEVENT
END:VCALENDAR