BEGIN:VCALENDAR
VERSION:2.0
PRODID:-//Comic Quest - ECPv6.15.20//NONSGML v1.0//EN
CALSCALE:GREGORIAN
METHOD:PUBLISH
X-ORIGINAL-URL:https://comicquest.org
X-WR-CALDESC:Events for Comic Quest
REFRESH-INTERVAL;VALUE=DURATION:PT1H
X-Robots-Tag:noindex
X-PUBLISHED-TTL:PT1H
BEGIN:VTIMEZONE
TZID:UTC
BEGIN:STANDARD
TZOFFSETFROM:+0000
TZOFFSETTO:+0000
TZNAME:UTC
DTSTART:20240101T000000
END:STANDARD
END:VTIMEZONE
BEGIN:VEVENT
DTSTART;VALUE=DATE:20250503
DTEND;VALUE=DATE:20250504
DTSTAMP:20260424T042220
CREATED:20240828T071709Z
LAST-MODIFIED:20250427T221205Z
UID:10001131-1746230400-1746316799@comicquest.org
SUMMARY:FREE Comic Book Day
DESCRIPTION:Saturday May 3 \n10am to 8pm \nFREE Comics\, So many to Choose From \n  \nSale all Day: \n20% OFF Graphic Novels/Manga    (collected comics in book form) \n20% OFF Statues \n20% OFF Toys \n20% OFF Back issues (Except Key Issues) \n20% OFF Board Games \n  \nPossibly these and more.  Supplies are limited: \nChampion Sampler \nCreaky Acres \nDr. Seuss Graphic Novel Sampler \nMEGAMAN #0 \nSTREET FIGHTER VS RIVALS SCHOOLS #1 \nDC ALL IN ABSOLUTE UNIVERSE 2025 FCBD SPECIAL EDITION \nENERGON UNIVERSE SPECIAL \nI HATE FAIRYLAND ONCE UPON A TIME SPECIAL \nKANGA-U TESTS AND TOURNAMENTS 2025 \nPHANTOM #0 \nSPEED RACER #0 \nSUPERMANS GOOD GUY GANG \nTRANSFORMERS WORST BOT EVER SPECIAL \nPOST MALONES BIG RIG #1 \nBEST OF 2000 AD \nCONAN THE BARBARIAN \nDEF LEPPARDS HYSTERIA FCBD SPECIAL \nDIABLO \nGARGOYLES DEMONA #0 \nHULK TEACH \nKEENSPOT MARK SPEARS MONSTERS #0 \nKEENSPOT TOYBOX SPECIAL \nRED 5 COMIC ADVENTURES \nTHUNDERCATS POWERPUFF GIRLS #0 \nWILL EISNER COMIC BIOGRAPHY \nAMAZING SPIDER-MAN/ULTIMATE UNIVERSE #1 \nCritical Role/Black Hammer \nFANTASTIC FOUR/GIANT-SIZE X-MEN #1 \nIRON MAN & HIS AWESOME FRIENDS/SPIDEY & HIS AMAZING FRIENDS #1 \nIRONHEART/MARVEL’S VOICES #1 \nSTAR WARS #1 \nStar Wars/Avatar: The Last Airbender \nGodzilla: The New Heroes \nIDW Dark: Find Your New Fear \nKodansha FCBD 2025 \nTAMAGOTCHI SPECIAL \n 
URL:https://comicquest.org/event/free-comic-book-day-3/
LOCATION:Comic Quest\, 23811 Bridger #111 CA 92630\, Lake Forest\, CA\, 92630\, United States
CATEGORIES:Event
ATTACH;FMTTYPE=image/jpeg:https://comicquest.org/wp-content/uploads/2023/03/Free_Comic_Book_Day.jpg
END:VEVENT
BEGIN:VEVENT
DTSTART;TZID=UTC:20250504T100000
DTEND;TZID=UTC:20250504T163000
DTSTAMP:20260424T042220
CREATED:20250407T232342Z
LAST-MODIFIED:20250429T005250Z
UID:10001507-1746352800-1746376200@comicquest.org
SUMMARY:Warmachine Tournament! Yep Warmachine is Back!
DESCRIPTION:WARMACHINE TOURNAMENT! \nWhen: Sunday May 4th\nRegistration – 10:00am\,\nRound 1 – 10:30am\nEntry Fee: $10.00 – go towards prize support\nFormat: 2 lists\, Prime 100pts.\nSign up on Longshanks Link; \nhttps://warmachine.longshanks.org/event/25344/\n  \nHope to see you there!!!! \nJoin our Discord = https://discord.gg/GKGFRbn3gx \n 
URL:https://comicquest.org/event/warhammer-age-of-sigmar-spearhead-tourney-paint-day/
LOCATION:Comic Quest\, 23811 Bridger #111 CA 92630\, Lake Forest\, CA\, 92630\, United States
CATEGORIES:Event,Tournament,Warhammer Age of SIgmar
ATTACH;FMTTYPE=image/jpeg:https://comicquest.org/wp-content/uploads/2025/04/Warmachine-new-2025.jpg
END:VEVENT
BEGIN:VEVENT
DTSTART;VALUE=DATE:20250510
DTEND;VALUE=DATE:20250511
DTSTAMP:20260424T042220
CREATED:20250311T173402Z
LAST-MODIFIED:20250509T203751Z
UID:10001496-1746835200-1746921599@comicquest.org
SUMMARY:RESCHEDULED Conquest Worlds Event Tournament
DESCRIPTION:Conquest Worlds Event Tournament \nSaturday May 10 WORLDS EVENT Rescheduling to June. Date TBA \n\nWorlds Event Tournament-Registration Time: 10:00am-Entry Fee: $10.00-Games start time: 10:30am Sharp! \nFormat: 2000 Points No Painting Requirement Format: 3 Rounds\, Ranked\, 2 Hour LimitPlease Register on Longshanks:
URL:https://comicquest.org/event/conquest-worlds-event-tournament/
LOCATION:Comic Quest\, 23811 Bridger #111 CA 92630\, Lake Forest\, CA\, 92630\, United States
CATEGORIES:Conquest,Event,Tournament
ATTACH;FMTTYPE=image/webp:https://comicquest.org/wp-content/uploads/2024/03/conquest_logo.webp
END:VEVENT
BEGIN:VEVENT
DTSTART;TZID=UTC:20250517T093000
DTEND;TZID=UTC:20250517T193000
DTSTAMP:20260424T042220
CREATED:20241114T222759Z
LAST-MODIFIED:20250422T013002Z
UID:10001342-1747474200-1747510200@comicquest.org
SUMMARY:Warhammer 40k RTT Tourney
DESCRIPTION:Comic Quest 40k RTT Tourney by Dicehammer. \nSaturday MAY 17th \nWarhammer 40\,000! Come and join the fun! \nMay 17- 3 round ITC event. Prep your list for OC8’s\, BAO or another Summer GT: https://bestcoastpairings.com/event/ffJnhCZyyA4N \n3 round ITC event. Missions and GW terrain layout TBD. \n2\,000 points. All players will receive 10 points for being Battle Ready. \n2h45m rounds. 30 minute lunch. Round 1 starts at 10AM. Chess clocks are recommended to keep games on track. \nSchedule: * 9:30 Setup * 10:00 Round 1 begins \n$22 entry fee. $15 per ticket goes back to prize support.
URL:https://comicquest.org/event/warhammer-40k-rtt-tourney-4/
LOCATION:Comic Quest\, 23811 Bridger #111 CA 92630\, Lake Forest\, CA\, 92630\, United States
CATEGORIES:40K,Event,Tournament
ATTACH;FMTTYPE=image/jpeg:https://comicquest.org/wp-content/uploads/2023/01/40k-logo.jpg
END:VEVENT
BEGIN:VEVENT
DTSTART;TZID=UTC:20250524T093000
DTEND;TZID=UTC:20250524T194500
DTSTAMP:20260424T042220
CREATED:20241215T021402Z
LAST-MODIFIED:20250518T175926Z
UID:10001415-1748079000-1748115900@comicquest.org
SUMMARY:Star Wars Legion Tourney -Revenge of the Sith Event
DESCRIPTION:Star Wars Legion Tourney \nSpecial Revenge of the Sith Event for the 20th anniversary. \n(Similar to the Phantom Menace anniversary event we did last year) \n \nDATE: Saturday May 24.  9:30am. \nENTRY FEE: $10 Entry Fee.  Special Prizing. \nFORMAT: 1000 point list but there will be no battle forces allowed for this event.*See details below \nAll lists MUST contain 1 Force user. It can be an operative or commander but must be a unit with force upgrades (No Arfs). As a force user is used on many of the map for missions and support. \nSign up Link: https://www.longshanks.org/event/25665/ \nRegistration\n9:30-9:45 (15 min)\nOpening remarks\n9:45-10 (15 Min)\nRound 1\n10:05-1:05 (3 Hours)\nLunch\n1:05- 1:35 (30 Min)\nRound 2\n1:40-4:40 (3 Hours)\nRound 3\n4:45-7:45 (3 Hours) \n*Below are some of the summaries of the tables and some hints with their missions for the event. \nComic Quest May Legion Event: The Revenge Of The Sith (May 24th Saturday) All the tables at this event are inspired by scenes from the movie. From Order 66 to the duel on Mustafar. Very similar to the special event we held last year for Phantom Menace. \nDue to the special nature of this event we will be capping the player amount at 16. But if there is enough interest we will build more tables to accommodate more people. \nArmy building for this event will be a 1000 point list but there will be no battle forces allowed for this event. As some of the battle force’s special mechanics unbalance some of the special table rules. What table you will be at will be random each time so your army should be prepared for any of the tables and their special conditions. From altering terrain to possible duels of the fates. \nAll lists MUST contain 1 Force user. It can be an operative or commander but must be a unit with force upgrades (No Arfs). As a force user is used on many of the map for missions and support. \nCommander 1-3\nOperative 1-3\nCore 2-6\nSpecial Forces 0-3\nSupport 0-3\nHeavy 0-1 \nOnly command cards are needed to be picked\, no need to pick any Objectives\, Secondary’s or Advantages are needed as each mission and condition is unique to each table. \nDue to the importance of the role he played\, Emperor Palpatine And Imperial Royal Guards are allowed to be played at the event. \nHaving units that were in the movie itself gain special bonuses depending on the table you are at. Don’t worry Rebels still have RD-D2\, Chewie and Ahsoka have special rules depending on their table. \n  \nSummaries of the tables will be given closer to the event along with some hints of what the table’s rules can. Hope to see you out there. IF you have any questions don’t hesitate to ask. \nJoin our Facebook Group: Comic Quest Star Wars Legion and/or our Discord. \n \n  \n  \n 
URL:https://comicquest.org/event/star-wars-legion-revenge-of-the-sith-event/
LOCATION:Comic Quest\, 23811 Bridger #111 CA 92630\, Lake Forest\, CA\, 92630\, United States
CATEGORIES:Event,Star Wars Legion,Tournament
ATTACH;FMTTYPE=image/png:https://comicquest.org/wp-content/uploads/2023/03/star_wars_legion_image.png
END:VEVENT
BEGIN:VEVENT
DTSTART;TZID=UTC:20250525T093000
DTEND;TZID=UTC:20250525T180000
DTSTAMP:20260424T042220
CREATED:20250408T014706Z
LAST-MODIFIED:20250518T183311Z
UID:10001508-1748165400-1748196000@comicquest.org
SUMMARY:Star Wars Shatterpoint Tournament
DESCRIPTION:Star Wars Shatterpoint Tournament \n\n\n\n\n\n\nCome join us at Comic Quest in Lake Forest for a Star Wars Shatterpoint Tournament!\n\n\n\nSunday\, MAY 25\n9:30 am = Registration\n10 am = Round 1\n\nDetails \n– $15 Entry Fee – All $$ goes to prize pool (CQ store credit) \n\nEvery participant will get a promotional order card!\n\n– If you have Terrain and a mat\, please bring it or check with TO: Eric Del Priore. \n– You may bring \n\n2 squads (a normal strike force) OR\n4 (a premiere list). If you opt to bring 4 squads\, you must follow the premiere format rules (each squad must be played once).\n\nPlease register on longshanks in advance. Link: https://shatterpoint.longshanks.org/event/24528/ \nJoin our CQ General Discord\, and scroll to the Star Wars Shatterpoint Channel section. \n 
URL:https://comicquest.org/event/star-wars-shatterpoint-tournament-4/
LOCATION:Comic Quest\, 23811 Bridger #111 CA 92630\, Lake Forest\, CA\, 92630\, United States
CATEGORIES:Event,Star Wars Shatterpoint,Tournament
ATTACH;FMTTYPE=image/png:https://comicquest.org/wp-content/uploads/2023/05/shatterpoint_logo.png
END:VEVENT
END:VCALENDAR