BEGIN:VCALENDAR
VERSION:2.0
PRODID:-//Comic Quest - ECPv6.15.20//NONSGML v1.0//EN
CALSCALE:GREGORIAN
METHOD:PUBLISH
X-WR-CALNAME:Comic Quest
X-ORIGINAL-URL:https://comicquest.org
X-WR-CALDESC:Events for Comic Quest
REFRESH-INTERVAL;VALUE=DURATION:PT1H
X-Robots-Tag:noindex
X-PUBLISHED-TTL:PT1H
BEGIN:VTIMEZONE
TZID:UTC
BEGIN:STANDARD
TZOFFSETFROM:+0000
TZOFFSETTO:+0000
TZNAME:UTC
DTSTART:20240101T000000
END:STANDARD
END:VTIMEZONE
BEGIN:VEVENT
DTSTART;TZID=UTC:20251011T093000
DTEND;TZID=UTC:20251011T193000
DTSTAMP:20260423T194107
CREATED:20250610T223348Z
LAST-MODIFIED:20251005T194113Z
UID:10001543-1760175000-1760211000@comicquest.org
SUMMARY:Warhammer 40k RTT Tourney
DESCRIPTION:  \nComic Quest 40k RTT Tourney by Dicehammer. \nSaturday OCTOBER 11 \nWarhammer 40\,000 Gameplay! Come and join the fun! \nEntry Fee: $17.00 \nCheck-in/Set up: 9:30am \nRound 1 begins: 10:00am \nDetails & Sign-ups on BCP (Best Coast Pairings). https://www.bestcoastpairings.com/event/3y0AHrImH5P3 \nOne more two round event this month. Limited to 14 players... But every table will be using one of the new Dicehammer terrain sets (I only have 7 printed so far).
URL:https://comicquest.org/event/warhammer-40k-rtt-tourney-edit-date-before-publish-3/
LOCATION:Comic Quest\, 23811 Bridger #111 CA 92630\, Lake Forest\, CA\, 92630\, United States
CATEGORIES:40K,Event,Tournament
ATTACH;FMTTYPE=image/jpeg:https://comicquest.org/wp-content/uploads/2023/01/40k-logo.jpg
END:VEVENT
BEGIN:VEVENT
DTSTART;TZID=UTC:20251018T093000
DTEND;TZID=UTC:20251018T193000
DTSTAMP:20260423T194107
CREATED:20250815T013647Z
LAST-MODIFIED:20251014T160200Z
UID:10003317-1760779800-1760815800@comicquest.org
SUMMARY:Warhammer Old World RTT Tourney
DESCRIPTION:Warhammer Old World RTT Tourney\n\n\n\n\n\n\n\n\n\n\n\n\n\n\n\n\n\n\n\n\n\n\nSaturday OCTOBER 18th. \n\n$25 Entry Fee.\nSetup – Begins at 9:30;\nGo time = 10:00am\n\n3 Round RTT Event \nRounds – 2H 45M (+ 30M for lunch) \nPrizes – For the top 3 Players. \nPremium Old World Terrain – Each table is unique! \n\nPainting – There is NO painting requirement for this event\n\nSign up at BCP (Best Coast Pairings) = https://www.bestcoastpairings.com/event/mgTyatFMJDAx \nMore Details are at the BCP Link.
URL:https://comicquest.org/event/warhammer-old-world-rtt-tourney-5/
LOCATION:Comic Quest\, 23811 Bridger #111 CA 92630\, Lake Forest\, CA\, 92630\, United States
CATEGORIES:Event,Tournament,Warhammer Old World
ATTACH;FMTTYPE=image/png:https://comicquest.org/wp-content/uploads/2024/01/warhammer_old_world_logo.png
END:VEVENT
BEGIN:VEVENT
DTSTART;VALUE=DATE:20251025
DTEND;VALUE=DATE:20251026
DTSTAMP:20260423T194107
CREATED:20241112T051936Z
LAST-MODIFIED:20251004T004015Z
UID:10001332-1761350400-1761436799@comicquest.org
SUMMARY:Trick Or Read (Free Comics)
DESCRIPTION:Saturday October 25 \n11am to 8pm \nFREE Comics\, So many to Choose From \n \nGODZILLA VS. FANTASTIC FOUR #1 \nHallowed Hauntings: A Seasonal Sampler from Top Shelf \nNocturnals: The Sinister Path #1 \nSPIDEY AND HIS AMAZING FRIENDS #1 \nVENOM: LETHAL PROTECTOR #1 \nX-MEN ’97 #1 HALLOWEEN TRICK-OR-READ 2025 \nYOUR FRIENDLY NEIGHBORHOOD SPIDER-MAN #1 \n       \n 
URL:https://comicquest.org/event/trick-or-read-free-comics-3/
LOCATION:Comic Quest\, 23811 Bridger #111 CA 92630\, Lake Forest\, CA\, 92630\, United States
CATEGORIES:Event
ATTACH;FMTTYPE=image/png:https://comicquest.org/wp-content/uploads/2023/09/trick_or_read.png
END:VEVENT
BEGIN:VEVENT
DTSTART;VALUE=DATE:20251025
DTEND;VALUE=DATE:20251026
DTSTAMP:20260423T194107
CREATED:20250831T210936Z
LAST-MODIFIED:20250831T211445Z
UID:10003592-1761350400-1761436799@comicquest.org
SUMMARY:Mini Club Turn In - Dead Men Tell No Tales
DESCRIPTION:The new mini club is available. \nDead Men Tell No Tales \nEvery two months we select a unique miniature\, and offer it for 25% Off for everyone.   Then at the end of the period\, painters turn their miniatures in for an exhibition. Everyone paints the same miniature\, but do in in unique ways.  Color choices\, techniques\, conversation\, etc. \nTurn in is Saturday October 25th. \n\n\n\n\nThe Mini-Club turn in date is this Saturday. Get to the finishing touches (or you should start now?). \n\nTurn in your mini on Saturday\nWe take glamour shots of all the minis that night\nLeave your mini for display (if you can) for a few days.\nThen sometime during the week pick up your mini\, and you get another mini for FREE!
URL:https://comicquest.org/event/mini-club-turn-in-dead-men-tell-no-tales/
LOCATION:Comic Quest\, 23811 Bridger #111 CA 92630\, Lake Forest\, CA\, 92630\, United States
CATEGORIES:Event,Mini Club
ATTACH;FMTTYPE=image/jpeg:https://comicquest.org/wp-content/uploads/2025/08/dead-men-tell-no-tales-banner.jpg
END:VEVENT
BEGIN:VEVENT
DTSTART;TZID=UTC:20251026T100000
DTEND;TZID=UTC:20251026T180000
DTSTAMP:20260423T194107
CREATED:20250802T072722Z
LAST-MODIFIED:20251015T232059Z
UID:10002109-1761472800-1761501600@comicquest.org
SUMMARY:Star Wars Shatterpoint Tournament
DESCRIPTION:Star Wars Shatterpoint Tournament \n\n\n\n\n\n\nCome join us at Comic Quest in Lake Forest for a Star Wars Shatterpoint Tournament!\n\n\n\nSunday\, OCTOBER 26\n10:00 am = Registration\n10:30 am = Round 1\n\nDetails \n– $15 Entry Fee – All $$ goes to prize pool (CQ store credit) \n\nEvery participant will get a promotional order card!\n\n– If you have Terrain and a mat\, please bring it or check with TO: Eric Del Priore. \n– You may bring \n\n2 squads (a normal strike force) OR\n4 (a premiere list). If you opt to bring 4 squads\, you must follow the premiere format rules (each squad must be played once).\n\nPlease register on longshanks in advance. Link:  https://www.longshanks.org/event/29042/ \nJoin our CQ General Discord\, and scroll to the Star Wars Shatterpoint Channel section. \nhttps://discord.gg/S6rQZvF28P \n 
URL:https://comicquest.org/event/star-wars-shatterpoint-tournament-7/
LOCATION:Comic Quest\, 23811 Bridger #111 CA 92630\, Lake Forest\, CA\, 92630\, United States
CATEGORIES:Event,Star Wars Shatterpoint,Tournament
ATTACH;FMTTYPE=image/png:https://comicquest.org/wp-content/uploads/2023/05/shatterpoint_logo.png
END:VEVENT
BEGIN:VEVENT
DTSTART;VALUE=DATE:20251030
DTEND;VALUE=DATE:20251031
DTSTAMP:20260423T194107
CREATED:20250907T192941Z
LAST-MODIFIED:20251028T192321Z
UID:10003643-1761782400-1761868799@comicquest.org
SUMMARY:Star Wars Unlimited - Secrets of the Force - NEW SET
DESCRIPTION:Star Wars Unlimited-Secrets of the Force \nNEW SET LAUNCHES TODAY – Early Release for LGS (Local Game Stores) Thursday Oct 30!! TREAT no TRICK \nGet your hands on the new cards before they are available to the general public the following week.  See the cards in action before anyone else.  See popular characters fight for your amusement. Great for new players to the game and folks who have been already been playing. Easy to jump in anytime. There are starter decks as well as boosters for easy entry. \n 
URL:https://comicquest.org/event/star-wars-unlimited-secrets-of-the-force/
LOCATION:Comic Quest\, 23811 Bridger #111 CA 92630\, Lake Forest\, CA\, 92630\, United States
CATEGORIES:Event,Star Wars Unlimited,Tournament
ATTACH;FMTTYPE=image/jpeg:https://comicquest.org/wp-content/uploads/2023/10/star-wars-unlimited.jpg
END:VEVENT
END:VCALENDAR