BEGIN:VCALENDAR
VERSION:2.0
PRODID:-//Comic Quest - ECPv6.15.20//NONSGML v1.0//EN
CALSCALE:GREGORIAN
METHOD:PUBLISH
X-ORIGINAL-URL:https://comicquest.org
X-WR-CALDESC:Events for Comic Quest
REFRESH-INTERVAL;VALUE=DURATION:PT1H
X-Robots-Tag:noindex
X-PUBLISHED-TTL:PT1H
BEGIN:VTIMEZONE
TZID:UTC
BEGIN:STANDARD
TZOFFSETFROM:+0000
TZOFFSETTO:+0000
TZNAME:UTC
DTSTART:20250101T000000
END:STANDARD
END:VTIMEZONE
BEGIN:VTIMEZONE
TZID:America/Los_Angeles
BEGIN:DAYLIGHT
TZOFFSETFROM:-0800
TZOFFSETTO:-0700
TZNAME:PDT
DTSTART:20250309T100000
END:DAYLIGHT
BEGIN:STANDARD
TZOFFSETFROM:-0700
TZOFFSETTO:-0800
TZNAME:PST
DTSTART:20251102T090000
END:STANDARD
BEGIN:DAYLIGHT
TZOFFSETFROM:-0800
TZOFFSETTO:-0700
TZNAME:PDT
DTSTART:20260308T100000
END:DAYLIGHT
BEGIN:STANDARD
TZOFFSETFROM:-0700
TZOFFSETTO:-0800
TZNAME:PST
DTSTART:20261101T090000
END:STANDARD
BEGIN:DAYLIGHT
TZOFFSETFROM:-0800
TZOFFSETTO:-0700
TZNAME:PDT
DTSTART:20270314T100000
END:DAYLIGHT
BEGIN:STANDARD
TZOFFSETFROM:-0700
TZOFFSETTO:-0800
TZNAME:PST
DTSTART:20271107T090000
END:STANDARD
END:VTIMEZONE
BEGIN:VEVENT
DTSTART;TZID=UTC:20260103T093000
DTEND;TZID=UTC:20260103T173000
DTSTAMP:20260423T154239
CREATED:20251123T081821Z
LAST-MODIFIED:20251216T025253Z
UID:10003756-1767432600-1767461400@comicquest.org
SUMMARY:Warhammer 40k RTT Tourney
DESCRIPTION:Comic Quest 40k RTT Tourney \nSaturday JANUARY 3rd \nWarhammer 40\,000 Gameplay! Come and join the fun! \nEntry Fee: $15.00 \nCheck-in/Set up: 9:30am \nRound 1 begins: 10:00am \n\n2 round event. GW Layout #1 – Missions TBD\n2\,000 points. All players will receive 10 points for being Battle Ready. (ie: no painting requirement)\n3 hour rounds. 30 minute lunch. Round 1 starts at 10AM. Chess clocks are recommended to keep games on track.\n\nSchedule: \n9:30 Setup \n10:00-1:00 Round 1 \n1:00-1:30 Lunch \n1:30 – 4:30 Round 2\nPrizes for the top 3… TBD \nDetails & Sign-ups will be on BCP (Best Coast Pairings). Link:  https://www.bestcoastpairings.com/event/v1gr1sRJEXhq \n 
URL:https://comicquest.org/event/warhammer-40k-rtt-tourney-8/
LOCATION:Comic Quest\, 23811 Bridger #111 CA 92630\, Lake Forest\, CA\, 92630\, United States
CATEGORIES:40K,Event,Tournament
ATTACH;FMTTYPE=image/jpeg:https://comicquest.org/wp-content/uploads/2023/01/40k-logo.jpg
END:VEVENT
BEGIN:VEVENT
DTSTART;TZID=UTC:20260111T103000
DTEND;TZID=UTC:20260111T173000
DTSTAMP:20260423T154239
CREATED:20251224T200734Z
LAST-MODIFIED:20260103T012516Z
UID:10003795-1768127400-1768152600@comicquest.org
SUMMARY:Warhammer Age of Sigmar SPEARHEAD
DESCRIPTION:Warhammer Age of Sigmar SPEARHEAD \nSUNDAY  JANUARY 11  \nSign up Link & Event Details: \n\nBCP link  = Sign up here: https://www.bestcoastpairings.com/event/PHsDiGithGxF\nDETAILS:\n\n10:30am\n3 Round Spearhead Tournament\nCost:$10\n90 min rounds\nPlease bring your copy of Spearhead Sand and Bone along with your cards\n\n\n\nHope to see you there!!!! \nJoin our Discord = https://discord.gg/GKGFRbn3gx \n  \n  \n 
URL:https://comicquest.org/event/warhammer-age-of-sigmar-spearhead/
LOCATION:Comic Quest\, 23811 Bridger #111 CA 92630\, Lake Forest\, CA\, 92630\, United States
CATEGORIES:Event,Tournament,Warhammer Age of SIgmar
ATTACH;FMTTYPE=image/jpeg:https://comicquest.org/wp-content/uploads/2025/12/WarHammer-Age-of-Sigmar-Spearhead.jpg
END:VEVENT
BEGIN:VEVENT
DTSTART;TZID=America/Los_Angeles:20260116T180000
DTEND;TZID=America/Los_Angeles:20260116T220000
DTSTAMP:20260423T154239
CREATED:20250828T064957Z
LAST-MODIFIED:20250913T230640Z
UID:10003588-1768586400-1768600800@comicquest.org
SUMMARY:Magic Prerelease - Lorwyn Eclipsed
DESCRIPTION:Prerelease is your first opportunity to get your hands on the newest Magic: The Gathering release and explore what the set has to offer\, and Prerelease Packs are the perfect product to fuel the first events of this new set. \n\n\n\n\n\nMagic the Gathering:  Lorwyn Eclipsed \nPreRelease Events Fri\, Sat& Sun Jan 16-18.. Fri 6pm. Sat/Sun 12pm. Sign ups soon.. \n\nFriday PreRelease Event = 1/16 = 2HG format (Two Headed Giant). Sign up & Play with a Partner!\nSat/Sun PreRelease Event= 1/17\, 1/18 = Regular Sealed event.\nAll events use the PreRelease Kit\n\nAll Product available starting at PreRelease.. \nMore details TBA
URL:https://comicquest.org/event/magic-prerelease-lorwyn-eclipsed/
LOCATION:Comic Quest\, 23811 Bridger #111 CA 92630\, Lake Forest\, CA\, 92630\, United States
CATEGORIES:Event,Magic,Tournament
ATTACH;FMTTYPE=image/jpeg:https://comicquest.org/wp-content/uploads/2023/03/magic_prerelease.jpg
END:VEVENT
BEGIN:VEVENT
DTSTART;TZID=America/Los_Angeles:20260117T120000
DTEND;TZID=America/Los_Angeles:20260117T180000
DTSTAMP:20260423T154239
CREATED:20250815T011602Z
LAST-MODIFIED:20250913T230428Z
UID:10003316-1768651200-1768672800@comicquest.org
SUMMARY:Magic Prerelease - Lorwyn Eclipsed
DESCRIPTION:Prerelease is your first opportunity to get your hands on the newest Magic: The Gathering release and explore what the set has to offer\, and Prerelease Packs are the perfect product to fuel the first events of this new set. \n\n\n\n\n\nMagic the Gathering:  Lorwyn Eclipsed \nPreRelease Events Fri\, Sat& Sun Jan 16-18.. Fri 6pm. Sat/Sun 12pm. Sign ups soon.. \n\nFriday PreRelease Event = 1/16 = 2HG format (Two Headed Giant). Sign up & Play with a Partner!\nSat/Sun PreRelease Event= 1/17\, 1/18 = Regular Sealed event.\nAll events use the PreRelease Kit\n\nAll Product available starting at PreRelease.. \nMore details TBA
URL:https://comicquest.org/event/magic-prerelease-avatar-the-last-airbender-3/
LOCATION:Comic Quest\, 23811 Bridger #111 CA 92630\, Lake Forest\, CA\, 92630\, United States
CATEGORIES:Event,Magic,Tournament
ATTACH;FMTTYPE=image/jpeg:https://comicquest.org/wp-content/uploads/2023/03/magic_prerelease.jpg
END:VEVENT
BEGIN:VEVENT
DTSTART;TZID=America/Los_Angeles:20260118T120000
DTEND;TZID=America/Los_Angeles:20260118T180000
DTSTAMP:20260423T154239
CREATED:20250828T065111Z
LAST-MODIFIED:20250913T230528Z
UID:10003589-1768737600-1768759200@comicquest.org
SUMMARY:Magic Prerelease - Lorwyn Eclipsed
DESCRIPTION:Prerelease is your first opportunity to get your hands on the newest Magic: The Gathering release and explore what the set has to offer\, and Prerelease Packs are the perfect product to fuel the first events of this new set. \n\n\n\n\n\nMagic the Gathering:  Lorwyn Eclipsed \nPreRelease Events Fri\, Sat& Sun Jan 16-18.. Fri 6pm. Sat/Sun 12pm. Sign ups soon.. \n\nFriday PreRelease Event = 1/16 = 2HG format (Two Headed Giant). Sign up & Play with a Partner!\nSat/Sun PreRelease Event= 1/17\, 1/18 = Regular Sealed event.\nAll events use the PreRelease Kit\n\nAll Product available starting at PreRelease.. \nMore details TBA
URL:https://comicquest.org/event/magic-prerelease-lorwyn-eclipsed-2/
LOCATION:Comic Quest\, 23811 Bridger #111 CA 92630\, Lake Forest\, CA\, 92630\, United States
CATEGORIES:Event,Magic,Tournament
ATTACH;FMTTYPE=image/jpeg:https://comicquest.org/wp-content/uploads/2023/03/magic_prerelease.jpg
END:VEVENT
END:VCALENDAR