BEGIN:VCALENDAR
VERSION:2.0
PRODID:-//Comic Quest - ECPv6.15.20//NONSGML v1.0//EN
CALSCALE:GREGORIAN
METHOD:PUBLISH
X-WR-CALNAME:Comic Quest
X-ORIGINAL-URL:https://comicquest.org
X-WR-CALDESC:Events for Comic Quest
REFRESH-INTERVAL;VALUE=DURATION:PT1H
X-Robots-Tag:noindex
X-PUBLISHED-TTL:PT1H
BEGIN:VTIMEZONE
TZID:America/Los_Angeles
BEGIN:DAYLIGHT
TZOFFSETFROM:-0800
TZOFFSETTO:-0700
TZNAME:PDT
DTSTART:20250309T100000
END:DAYLIGHT
BEGIN:STANDARD
TZOFFSETFROM:-0700
TZOFFSETTO:-0800
TZNAME:PST
DTSTART:20251102T090000
END:STANDARD
BEGIN:DAYLIGHT
TZOFFSETFROM:-0800
TZOFFSETTO:-0700
TZNAME:PDT
DTSTART:20260308T100000
END:DAYLIGHT
BEGIN:STANDARD
TZOFFSETFROM:-0700
TZOFFSETTO:-0800
TZNAME:PST
DTSTART:20261101T090000
END:STANDARD
BEGIN:DAYLIGHT
TZOFFSETFROM:-0800
TZOFFSETTO:-0700
TZNAME:PDT
DTSTART:20270314T100000
END:DAYLIGHT
BEGIN:STANDARD
TZOFFSETFROM:-0700
TZOFFSETTO:-0800
TZNAME:PST
DTSTART:20271107T090000
END:STANDARD
END:VTIMEZONE
BEGIN:VTIMEZONE
TZID:UTC
BEGIN:STANDARD
TZOFFSETFROM:+0000
TZOFFSETTO:+0000
TZNAME:UTC
DTSTART:20250101T000000
END:STANDARD
END:VTIMEZONE
BEGIN:VEVENT
DTSTART;TZID=America/Los_Angeles:20260301T120000
DTEND;TZID=America/Los_Angeles:20260301T180000
DTSTAMP:20260423T124830
CREATED:20251014T234023Z
LAST-MODIFIED:20260224T190214Z
UID:10003664-1772366400-1772388000@comicquest.org
SUMMARY:Magic Prerelease - Teenage Mutant Ninja Turtles
DESCRIPTION:Prerelease is your first opportunity to get your hands on the newest Magic: The Gathering release and explore what the set has to offer\, and Prerelease Packs are the perfect product to fuel the first events of this new set. \n\n\n\n\n\nMagic the Gathering:  Teenage Mutant Ninja Turtles \nPreRelease Events Fri\, Sat& Sun Feb 27 – Mar 1.. Fri 6pm. Sat/Sun 12pm. Sign ups soon.. \n\nFriday PreRelease Event = 2/27 = 2HG format (Two Headed Giant). Sign up & Play with a Partner!\nSat/Sun PreRelease Event= 2/28\, 3/11 = Regular Sealed event.\nAll events use the PreRelease Kit\n\nAll Product available starting at PreRelease.. \n$44
URL:https://comicquest.org/event/magic-prerelease-teenage-mutant-ninja-turtles-3/
LOCATION:Comic Quest\, 23811 Bridger #111 CA 92630\, Lake Forest\, CA\, 92630\, United States
CATEGORIES:Event,Magic,Tournament
ATTACH;FMTTYPE=image/jpeg:https://comicquest.org/wp-content/uploads/2023/03/magic_prerelease.jpg
END:VEVENT
BEGIN:VEVENT
DTSTART;VALUE=DATE:20260306
DTEND;VALUE=DATE:20260307
DTSTAMP:20260423T124830
CREATED:20260106T191416Z
LAST-MODIFIED:20260110T234448Z
UID:10004205-1772755200-1772841599@comicquest.org
SUMMARY:Star Wars Unlimited - A Lawless Time - NEW SET Launch
DESCRIPTION:Star Wars Unlimited- A Lawless Time \nGet your hands on the new cards before they are available to the general public the following week.  See the cards in action before anyone else.  See popular characters fight for your amusement. Great for new players to the game and folks who have been already been playing. Easy to jump in anytime. There are starter decks as well as boosters for easy entry. \nStar Wars Unlimited-A LAWLESS TIME – NEW SET LAUNCHES TODAY (Early release for LGS) -Friday March 6. \nPreRelease Event – Sun Feb 8. \nProduct Preorders & PreRelease event sign-ups TBA soon. \n\nPRE-RELEASE EVENT = Sun Feb 8\nPRODUCT AVAILALBE TO PURCHASE = Fri Feb 6\n\n 
URL:https://comicquest.org/event/star-wars-unlimited-secrets-of-the-force-new-set/
LOCATION:Comic Quest\, 23811 Bridger #111 CA 92630\, Lake Forest\, CA\, 92630\, United States
CATEGORIES:Event,Star Wars Unlimited,Tournament
ATTACH;FMTTYPE=image/jpeg:https://comicquest.org/wp-content/uploads/2023/10/star-wars-unlimited.jpg
END:VEVENT
BEGIN:VEVENT
DTSTART;TZID=America/Los_Angeles:20260307T093000
DTEND;TZID=America/Los_Angeles:20260307T173000
DTSTAMP:20260423T124830
CREATED:20251202T063221Z
LAST-MODIFIED:20260304T051116Z
UID:10003784-1772875800-1772904600@comicquest.org
SUMMARY:Warhammer 40k RTT Tourney
DESCRIPTION:Comic Quest 40k RTT Tourney \nSaturday MARCH 7th \nWarhammer 40\,000 Gameplay! Come and join the fun! \nSign Up Here: https://www.bestcoastpairings.com/event/4BiJFpolzIvp?active_tab=overview \n\nEntry Fee: $15. Goes towards prize support.\n\nSCHEDULE \n\nCheck-in/Set up: 9:30am\n\n\nRound 1: 10:00am to 1:00pm\nLunch: 1:00pm to 1:30pm\nRound 2: 1:30pm to 4:30pm.\n\nDETAILS \n\n2 round event. GW Layout #1 and Missions K & N\n2\,000 points. All players will receive 10 points for being Battle Ready. (ie: no painting requirement)\n3 hour rounds. 30 minute lunch. Round 1 starts at 10AM. Chess clocks are recommended to keep games on track.\n\nFAQ: \nQ: Do my models need to be painted? Nope! Everyone gets the 10 points regardless. \nQ: Is this a good place for a first tournament go-er? Yes! Everyone is very friendly and we usually have at least 1 first timer every month.
URL:https://comicquest.org/event/warhammer-40k-rtt-tourney-10/
LOCATION:Comic Quest\, 23811 Bridger #111 CA 92630\, Lake Forest\, CA\, 92630\, United States
CATEGORIES:40K,Event,Tournament
ATTACH;FMTTYPE=image/jpeg:https://comicquest.org/wp-content/uploads/2023/01/40k-logo.jpg
END:VEVENT
BEGIN:VEVENT
DTSTART;TZID=UTC:20260308T100000
DTEND;TZID=UTC:20260308T150000
DTSTAMP:20260423T124830
CREATED:20260106T191151Z
LAST-MODIFIED:20260224T235751Z
UID:10004204-1772964000-1772982000@comicquest.org
SUMMARY:Star Wars Unlimited - A Lawless Time - PRERELEASE Event
DESCRIPTION:Star Wars Unlimited- A LAWLESS TIME \nPreRelease Event. = Sunday March 8 \n10:00am – check in \n10:15am – Deck building begins. Players receive a PreRelease kit that includes 6 booster packs- Players make a minimum 30 card deck. \n11:00am – Round 1 begins. \n3 to 4 rounds\, Best of 1. 30min rounds. Pre-pay Sign-ups in store. Entry Fee = $26.99. \nBooster Pack prizing. \nEarly launch for FLGS! \n\n**SIGN-UPS FOR PRERELEASE EVENT Available Now!!\n\nStar Wars Unlimited-A LAWLESS TIME – NEW SET LAUNCHES  (Early release for LGS) -Friday March 6. \nPreRelease Event – Sun March 8. \nProduct Preorders & PreRelease event sign-ups Available Now!. \n\nPRE-RELEASE EVENT = Sun March 8 – $26.99 + tax. (PreRelease Kit)\n\nPRODUCT AVAILALBE TO PURCHASE: \n\nBooster Boxes = $84.99\nCarbonite Booster Boxes = $229.99\nSpotlight Decks: Jabba the Hut and Leia Organa = $19.99\n\nGet your hands on the new cards before they are available to the general public the following week.  See the cards in action before anyone else.  See popular characters fight for your amusement. Great for new players to the game and folks who have been already been playing. Easy to jump in anytime. There are starter decks as well as boosters for easy entry. \n 
URL:https://comicquest.org/event/star-wars-unlimited-secrets-of-power-prerelease-event/
LOCATION:Comic Quest\, 23811 Bridger #111 CA 92630\, Lake Forest\, CA\, 92630\, United States
CATEGORIES:Event,Star Wars Unlimited,Tournament
ATTACH;FMTTYPE=image/jpeg:https://comicquest.org/wp-content/uploads/2023/10/star-wars-unlimited.jpg
END:VEVENT
BEGIN:VEVENT
DTSTART;TZID=UTC:20260315T093000
DTEND;TZID=UTC:20260315T180000
DTSTAMP:20260423T124830
CREATED:20260205T032502Z
LAST-MODIFIED:20260308T215418Z
UID:10004231-1773567000-1773597600@comicquest.org
SUMMARY:Star Wars Shatterpoint Tournament
DESCRIPTION:Star Wars Shatterpoint Tournament \n\n\n\n\n\n\nCome join us at Comic Quest in Lake Forest for a Star Wars Shatterpoint Tournament!\n\n\n\nSunday\, March 15\n10:00 am = Registration\n10:30 am = Round 1\n\nDetails \n– $15 Entry Fee – All $$ goes to prize pool (CQ store credit) \n\nEvery participant will get NEW prize promo cards!\n\n– If you have Terrain and a mat\, please bring it or check with TO: Eric Del Priore. \n– You may bring \n\n2 squads (a normal strike force) OR\n4 (a premiere list). If you opt to bring 4 squads\, you must follow the premiere format rules (each squad must be played once).\n\nPlease register on longshanks https://www.longshanks.org/event/32899/ \nJoin our CQ General Discord\, and scroll to the Star Wars Shatterpoint Channel section. https://discord.gg/U5D3r8Zg \nSome key notes:\n– the event is $15 and 100% goes to prizing (store credit)\n– registration is at 10am\, first round is at 10:30am – if we have an odd number we’ll bye from the people who arrived after 10:15\n– you do not need to be experienced – newer players are welcome\, think of this more like 3 paired rounds rather than min-maxing your refined list \nwe also have NEW prizes!!
URL:https://comicquest.org/event/star-wars-shatterpoint-tournament-9/
LOCATION:Comic Quest\, 23811 Bridger #111 CA 92630\, Lake Forest\, CA\, 92630\, United States
CATEGORIES:Event,Star Wars Shatterpoint,Tournament
ATTACH;FMTTYPE=image/png:https://comicquest.org/wp-content/uploads/2023/05/shatterpoint_logo.png
END:VEVENT
BEGIN:VEVENT
DTSTART;TZID=UTC:20260321T093000
DTEND;TZID=UTC:20260321T193000
DTSTAMP:20260423T124830
CREATED:20260117T000310Z
LAST-MODIFIED:20260316T065006Z
UID:10004216-1774085400-1774121400@comicquest.org
SUMMARY:Warhammer Old World RTT Tourney
DESCRIPTION:Warhammer Old World RTT Tourney\n\n\n\n\n\n\n\n\n\n\n\n\n\n\n\n\n\n\n\n\n\n\nSaturday MARCH 21. \n\n$25 Entry Fee.\nSetup – Begins at 9:30;\nGo time = 10:00am\n\n3 Round RTT Event \nRounds – 2H 45M (+ 30M for lunch) \nPrizes – For the top 3 Players. \nPremium Old World Terrain – Each table is unique! \n\nPainting – There is NO painting requirement for this event\n\nSign up at BCP (Best Coast Pairings) = https://www.bestcoastpairings.com/event/JuEXqotW7Fmr \nMore Details are at the BCP Link. \n\n\n\n\n\n\n\n\n\n\n\n\n\n\n\n\n\n\n\n\n\n\n\n\n\n\n\n\n\n\n\n\n\n\n\n\n\n\n\n 
URL:https://comicquest.org/event/warhammer-old-world-rtt-tourney-7/
LOCATION:Comic Quest\, 23811 Bridger #111 CA 92630\, Lake Forest\, CA\, 92630\, United States
CATEGORIES:Event,Tournament,Warhammer Old World
ATTACH;FMTTYPE=image/png:https://comicquest.org/wp-content/uploads/2024/01/warhammer_old_world_logo.png
END:VEVENT
BEGIN:VEVENT
DTSTART;TZID=UTC:20260322T093000
DTEND;TZID=UTC:20260322T193000
DTSTAMP:20260423T124830
CREATED:20260116T234748Z
LAST-MODIFIED:20260317T220333Z
UID:10004214-1774171800-1774207800@comicquest.org
SUMMARY:Star Wars Legion Tournament (Casual)
DESCRIPTION:Star Wars Legion Casual Tourney  \nSUNDAY March 22 \n3 rounds of Legion with traditional 1000 point armies. \n$10 Dollar Entry fee for prize support. \nSign-Up: Longshanks: https://legion.longshanks.org/event/32961/ \n**Questions and details refer to our CQ Discord or Facebook group Comic Quest Star Wars Legion (links below) \nSCHEDULE \nCheck In 9:30 am- 9:45 am (15 Minute) \nRound 1 9:50 am- 12:30 pm (2 Hour\, 40 Min) \nLunch 12:30pm- 1:20pm (50 Min) \nRound 2 1:25pm- 4:05pm (2 Hour\, 40 Min) \nRound 3 4:10pm- 6:50pm (2 Hour\, 40 Min) \nJoin our Discord server – scroll down to the Star Wars Legion category: https://discord.gg/rZ4UEjSn \n  \n \n  \n 
URL:https://comicquest.org/event/star-wars-legion-tournament-casual-4/
LOCATION:Comic Quest\, 23811 Bridger #111 CA 92630\, Lake Forest\, CA\, 92630\, United States
CATEGORIES:Event,Star Wars Legion,Tournament
ATTACH;FMTTYPE=image/png:https://comicquest.org/wp-content/uploads/2023/03/star_wars_legion_image.png
END:VEVENT
END:VCALENDAR