BEGIN:VCALENDAR
VERSION:2.0
PRODID:-//Comic Quest - ECPv6.15.20//NONSGML v1.0//EN
CALSCALE:GREGORIAN
METHOD:PUBLISH
X-ORIGINAL-URL:https://comicquest.org
X-WR-CALDESC:Events for Comic Quest
REFRESH-INTERVAL;VALUE=DURATION:PT1H
X-Robots-Tag:noindex
X-PUBLISHED-TTL:PT1H
BEGIN:VTIMEZONE
TZID:UTC
BEGIN:STANDARD
TZOFFSETFROM:+0000
TZOFFSETTO:+0000
TZNAME:UTC
DTSTART:20230101T000000
END:STANDARD
END:VTIMEZONE
BEGIN:VEVENT
DTSTART;VALUE=DATE:20240914
DTEND;VALUE=DATE:20240915
DTSTAMP:20260425T042650
CREATED:20240612T201552Z
LAST-MODIFIED:20240910T033513Z
UID:10000935-1726272000-1726358399@comicquest.org
SUMMARY:Warhammer 40\,000
DESCRIPTION:  \nComic Quest Sept 14th- 40k RTT Tournament by Dicehammer \n\nWarhammer 40\,000 Tournament.\n\n\n \n\n\nComic Quest September RTT by Dicehammer\n\n\nSATURDAY 9/14\n\n\n(9:30a set up)\n\n\nEntry fee $19\n\n\nSign-ups\, prizing & details on BCP link below:\n\n\nhttps://www.bestcoastpairings.com/event/9J8JMCT07M
URL:https://comicquest.org/event/warhammer-40000-18/
LOCATION:Comic Quest\, 23811 Bridger #111 CA 92630\, Lake Forest\, CA\, 92630\, United States
CATEGORIES:40K,Event,Tournament
ATTACH;FMTTYPE=image/jpeg:https://comicquest.org/wp-content/uploads/2023/01/40k-logo.jpg
END:VEVENT
END:VCALENDAR