BEGIN:VCALENDAR
VERSION:2.0
PRODID:-//Comic Quest - ECPv6.15.20//NONSGML v1.0//EN
CALSCALE:GREGORIAN
METHOD:PUBLISH
X-ORIGINAL-URL:https://comicquest.org
X-WR-CALDESC:Events for Comic Quest
REFRESH-INTERVAL;VALUE=DURATION:PT1H
X-Robots-Tag:noindex
X-PUBLISHED-TTL:PT1H
BEGIN:VTIMEZONE
TZID:UTC
BEGIN:STANDARD
TZOFFSETFROM:+0000
TZOFFSETTO:+0000
TZNAME:UTC
DTSTART:20230101T000000
END:STANDARD
END:VTIMEZONE
BEGIN:VEVENT
DTSTART;TZID=UTC:20240928T093000
DTEND;TZID=UTC:20240928T193000
DTSTAMP:20260425T042705
CREATED:20240620T082912Z
LAST-MODIFIED:20240924T195346Z
UID:10000938-1727515800-1727551800@comicquest.org
SUMMARY:Conquest - Worlds Event Tournament
DESCRIPTION:Conquest Worlds Event Tournament \nSaturday Sept 28   \n\nWorlds Event Tournament-Registration at 9:30AM-$10 Entry Fee-Games start at 10:00AM sharp! \n2000 Points using 2.0 RulesetNo Painting Requirement \nFormat: 4 Rounds\, Ranked\, 2 Hour LimitScenarios will be announced at the eventReleased and Official models only!Please Register on Longshanks: https://www.longshanks.org/event/16799/
URL:https://comicquest.org/event/conquest-tournament-4/
LOCATION:Comic Quest\, 23811 Bridger #111 CA 92630\, Lake Forest\, CA\, 92630\, United States
CATEGORIES:Conquest,Event,Tournament
ATTACH;FMTTYPE=image/webp:https://comicquest.org/wp-content/uploads/2024/03/conquest_logo.webp
END:VEVENT
END:VCALENDAR