BEGIN:VCALENDAR
VERSION:2.0
PRODID:-//Comic Quest - ECPv6.15.20//NONSGML v1.0//EN
CALSCALE:GREGORIAN
METHOD:PUBLISH
X-WR-CALNAME:Comic Quest
X-ORIGINAL-URL:https://comicquest.org
X-WR-CALDESC:Events for Comic Quest
REFRESH-INTERVAL;VALUE=DURATION:PT1H
X-Robots-Tag:noindex
X-PUBLISHED-TTL:PT1H
BEGIN:VTIMEZONE
TZID:UTC
BEGIN:STANDARD
TZOFFSETFROM:+0000
TZOFFSETTO:+0000
TZNAME:UTC
DTSTART:20230101T000000
END:STANDARD
END:VTIMEZONE
BEGIN:VEVENT
DTSTART;VALUE=DATE:20241026
DTEND;VALUE=DATE:20241027
DTSTAMP:20260425T042547
CREATED:20240113T012930Z
LAST-MODIFIED:20240113T012931Z
UID:10000713-1729900800-1729987199@comicquest.org
SUMMARY:Trick Or Read (Free Comics)
DESCRIPTION:Saturday October 28th \n11am to 8pm \nFREE Comics\, So many to Choose From \n \n  \n  \n 
URL:https://comicquest.org/event/trick-or-read-free-comics-2/
LOCATION:Comic Quest\, 23811 Bridger #111 CA 92630\, Lake Forest\, CA\, 92630\, United States
CATEGORIES:Event
ATTACH;FMTTYPE=image/png:https://comicquest.org/wp-content/uploads/2023/09/trick_or_read.png
END:VEVENT
BEGIN:VEVENT
DTSTART;VALUE=DATE:20241026
DTEND;VALUE=DATE:20241027
DTSTAMP:20260425T042547
CREATED:20240901T162553Z
LAST-MODIFIED:20240902T001508Z
UID:10001198-1729900800-1729987199@comicquest.org
SUMMARY:Mini Club Turn In - Barrow Warden Mystic
DESCRIPTION:Every two months we select a unique miniature\, and offer it for 25% Off for everyone.   Then at the end of the period\, painters turn their miniatures in for an exhibition. Everyone paints the same miniature\, but do in in unique ways.  Color choices\, techniques\, conversation\, etc. \nThe new mini club is available. \nBarrow Warden Mystic \nTurn in is Saturday Oct 26th. \n\n\n\n\n\nTurn in you mini on Saturday\nWe take glamour shots of all the minis that night\nLeave your mini for display (if you can) for a few days.\nThen sometime during the week pick up your mini\, and you get another mini for FREE!\n\n  \n  \n 
URL:https://comicquest.org/event/mini-club-turn-in-barrow-warden-mystic/
LOCATION:Comic Quest\, 23811 Bridger #111 CA 92630\, Lake Forest\, CA\, 92630\, United States
CATEGORIES:Event,Mini Club
ATTACH;FMTTYPE=image/png:https://comicquest.org/wp-content/uploads/2024/09/Mini-club-barrow-warden-mystic-Oct-2024-banner.png
END:VEVENT
END:VCALENDAR