BEGIN:VCALENDAR
VERSION:2.0
PRODID:-//Comic Quest - ECPv6.15.20//NONSGML v1.0//EN
CALSCALE:GREGORIAN
METHOD:PUBLISH
X-ORIGINAL-URL:https://comicquest.org
X-WR-CALDESC:Events for Comic Quest
REFRESH-INTERVAL;VALUE=DURATION:PT1H
X-Robots-Tag:noindex
X-PUBLISHED-TTL:PT1H
BEGIN:VTIMEZONE
TZID:UTC
BEGIN:STANDARD
TZOFFSETFROM:+0000
TZOFFSETTO:+0000
TZNAME:UTC
DTSTART:20240101T000000
END:STANDARD
END:VTIMEZONE
BEGIN:VEVENT
DTSTART;TZID=UTC:20250201T100000
DTEND;TZID=UTC:20250201T200000
DTSTAMP:20260424T154649
CREATED:20241220T005957Z
LAST-MODIFIED:20250126T222741Z
UID:10001425-1738404000-1738440000@comicquest.org
SUMMARY:Conquest Casual Tournament
DESCRIPTION:Conquest Casual Tournament \n**FEBRUARY 1st!** Hope everyone had happy holidays! Since we have EXCITING new Hundred Kingdoms models and updates coming late January we have a casual tournament on January 26 as well! \nSaturday FEBRUARY 1st \nRegistration: 10:00am \nGames Start time: 10:30am sharp \nEntry fee: $10.00 \nFormat: 3 Rounds\, Ranked. 1250 points using 2.0 ruleset \nSign-ups: Longshanks – https://www.longshanks.org/event/19397/ \nNo Painting Requirement (Prize for best painted\, however!!)Prizes & Aghm Points! \n \n 
URL:https://comicquest.org/event/conquest-casual-tournament-2/
LOCATION:Comic Quest\, 23811 Bridger #111 CA 92630\, Lake Forest\, CA\, 92630\, United States
CATEGORIES:Conquest,Event,Tournament
ATTACH;FMTTYPE=image/webp:https://comicquest.org/wp-content/uploads/2024/03/conquest_logo.webp
END:VEVENT
END:VCALENDAR