BEGIN:VCALENDAR
VERSION:2.0
PRODID:-//Comic Quest - ECPv6.15.20//NONSGML v1.0//EN
CALSCALE:GREGORIAN
METHOD:PUBLISH
X-ORIGINAL-URL:https://comicquest.org
X-WR-CALDESC:Events for Comic Quest
REFRESH-INTERVAL;VALUE=DURATION:PT1H
X-Robots-Tag:noindex
X-PUBLISHED-TTL:PT1H
BEGIN:VTIMEZONE
TZID:UTC
BEGIN:STANDARD
TZOFFSETFROM:+0000
TZOFFSETTO:+0000
TZNAME:UTC
DTSTART:20240101T000000
END:STANDARD
END:VTIMEZONE
BEGIN:VEVENT
DTSTART;VALUE=DATE:20250426
DTEND;VALUE=DATE:20250427
DTSTAMP:20260424T083756
CREATED:20250304T180421Z
LAST-MODIFIED:20250304T180421Z
UID:10001493-1745625600-1745711999@comicquest.org
SUMMARY:Mini Club Turn In - Troll
DESCRIPTION:Every two months we select a unique miniature\, and offer it for 25% Off for everyone.   Then at the end of the period\, painters turn their miniatures in for an exhibition. Everyone paints the same miniature\, but do in in unique ways.  Color choices\, techniques\, conversation\, etc. \nThe new mini club is available. \nTroll \nTurn in is Saturday April 26th \n\n\n\n\n  \nThe Mini-Club turn in date is this Saturday. Get to the finishing touches (or you should start now?). \n\nTurn in your mini on Saturday\nWe take glamour shots of all the minis that night\nLeave your mini for display (if you can) for a few days.\nThen sometime during the week pick up your mini\, and you get another mini for FREE!
URL:https://comicquest.org/event/mini-club-turn-in-troll/
LOCATION:Comic Quest\, 23811 Bridger #111 CA 92630\, Lake Forest\, CA\, 92630\, United States
CATEGORIES:Event,Mini Club
ATTACH;FMTTYPE=image/png:https://comicquest.org/wp-content/uploads/2025/03/TROLL-APRIL-2025-banner.png
END:VEVENT
BEGIN:VEVENT
DTSTART;TZID=UTC:20250426T093000
DTEND;TZID=UTC:20250426T163000
DTSTAMP:20260424T083756
CREATED:20241114T222628Z
LAST-MODIFIED:20250422T031750Z
UID:10001341-1745659800-1745685000@comicquest.org
SUMMARY:Warhammer 40k RTT Tourney
DESCRIPTION:Comic Quest 40k RTT Tourney by Dicehammer. \nSaturday APRIL 26th  \nApril 26 – 2 round event. Not submitted to ITC. The event will be done by 4:30. Get some practice competitive games and still have the evening free: https://bestcoastpairings.com/event/MzjFzbdYgNa2 \nPrizes for the top 4 – Placings will be Wins\, Battle Points\, Opponent Win % \n$15 entry fee. $10 per ticket goes back to prize support. Pairings will be Win Path\, Wins and Battle Points \nSchedule: * 9:30 Setup * 10:00 Round 1 starts \nFor the May event — link below\, but more details on the calendar for May 17. (We have 40k RTT’s monthly). \nMay 17- 3 round ITC event. Prep your list for OC8’s\, BAO or another Summer GT: https://bestcoastpairings.com/event/ffJnhCZyyA4N
URL:https://comicquest.org/event/warhammer-40k-rtt-tourney-3/
LOCATION:Comic Quest\, 23811 Bridger #111 CA 92630\, Lake Forest\, CA\, 92630\, United States
CATEGORIES:40K,Event,Tournament
ATTACH;FMTTYPE=image/jpeg:https://comicquest.org/wp-content/uploads/2023/01/40k-logo.jpg
END:VEVENT
END:VCALENDAR