BEGIN:VCALENDAR
VERSION:2.0
PRODID:-//Comic Quest - ECPv6.15.20//NONSGML v1.0//EN
CALSCALE:GREGORIAN
METHOD:PUBLISH
X-WR-CALNAME:Comic Quest
X-ORIGINAL-URL:https://comicquest.org
X-WR-CALDESC:Events for Comic Quest
REFRESH-INTERVAL;VALUE=DURATION:PT1H
X-Robots-Tag:noindex
X-PUBLISHED-TTL:PT1H
BEGIN:VTIMEZONE
TZID:UTC
BEGIN:STANDARD
TZOFFSETFROM:+0000
TZOFFSETTO:+0000
TZNAME:UTC
DTSTART:20240101T000000
END:STANDARD
END:VTIMEZONE
BEGIN:VEVENT
DTSTART;TZID=UTC:20250712T093000
DTEND;TZID=UTC:20250712T193000
DTSTAMP:20260424T004328
CREATED:20250226T061414Z
LAST-MODIFIED:20250708T005828Z
UID:10001487-1752312600-1752348600@comicquest.org
SUMMARY:Warhammer 40k RTT Tourney
DESCRIPTION:Comic Quest 40k RTT Tourney by Dicehammer. \nSaturday JULY 12 \nEntry Fee: $22 entry fee. \nPrizes for the Top 4 \n3 round ITC event. This will be a Palm Springs Open prep event with the missions and terrain matching the first 3 rounds at PSO. (You don’t have to be going to the PSO to participate in this RTT.) \n2\,000 points. All players will receive 10 points for being Battle Ready. \n2h45m rounds. 30 minute lunch. Round 1 starts at 10AM. Chess clocks are recommended to keep games on track. \nIf there are an odd number of players there will be a bye. In the first round the TO will take the bye. In subsequent rounds the lowest scoring player will take the bye. The player with the bye will receive an 80 point win. \nSchedule: \n\n9:30 Setup\n10:00-1:00 Round 1 (extra 15 minute buffer for round 1)\n1:00-1:30 Lunch\n1:30 – 4:15 Round 2\n4:30 – 7:15 Round 3\n\nWarhammer 40\,000 Gameplay! Come and join the fun! \nSign-ups will be on BCP (Best Coast Pairings). Link here: https://www.bestcoastpairings.com/event/QYf8dI37FovM
URL:https://comicquest.org/event/warhammer-40k-rtt-tourney-6/
LOCATION:Comic Quest\, 23811 Bridger #111 CA 92630\, Lake Forest\, CA\, 92630\, United States
CATEGORIES:40K,Event,Tournament
ATTACH;FMTTYPE=image/jpeg:https://comicquest.org/wp-content/uploads/2023/01/40k-logo.jpg
END:VEVENT
END:VCALENDAR