BEGIN:VCALENDAR
VERSION:2.0
PRODID:-//Comic Quest - ECPv6.15.20//NONSGML v1.0//EN
CALSCALE:GREGORIAN
METHOD:PUBLISH
X-ORIGINAL-URL:https://comicquest.org
X-WR-CALDESC:Events for Comic Quest
REFRESH-INTERVAL;VALUE=DURATION:PT1H
X-Robots-Tag:noindex
X-PUBLISHED-TTL:PT1H
BEGIN:VTIMEZONE
TZID:UTC
BEGIN:STANDARD
TZOFFSETFROM:+0000
TZOFFSETTO:+0000
TZNAME:UTC
DTSTART:20240101T000000
END:STANDARD
END:VTIMEZONE
BEGIN:VEVENT
DTSTART;TZID=UTC:20250823T110000
DTEND;TZID=UTC:20250823T183000
DTSTAMP:20260424T003636
CREATED:20250626T061034Z
LAST-MODIFIED:20250819T033148Z
UID:10001558-1755946800-1755973800@comicquest.org
SUMMARY:Battletech Mercenary Mini campaign -- Part 1
DESCRIPTION:SAVE THE DATE \nBattletech Mercenary Mini campaign \nSAT Aug 23\, SAT Sept 6 and SUN Sept 28 \nDetails Below \nEvent Listing in Facebook Comic Quest Battletech. and our CQ Discord Battletech \nCheck out our Discord: https://discord.gg/vSTcxRYW \n\n*Please RSVP on the Longshanks link: https://generic.longshanks.org/event/26880/\n\nBattletech: Mercenary Chaos Campaign\nDo you have what it takes to grow a small merc unit into more? Come join us for a Mercenary Campaign! We’ll get a head to head campaign set up that’ll let you show off how well you can manage a merc unit! You decide if you want to risk a higher repair bill to secure the win\, or live to fight another day.\nWe’ll be following what’s set in the new Battletech Mercenaries boxed set’s rulebook with a Scale 1 (up to 3000BV) force set in the ilClan era.\n\nSign up at https://generic.longshanks.org/event/26880/\n\nBuild a force with at least one Battlemech available to mercenaries in the ilClan era. You can have up to two mechs\, with skills of gunnery 4 and piloting 5\, adding up to a total of 3000 BV \nThe Master Unit List has all units available listed here. Or you can just grab a mech or record sheet you already have. http://www.masterunitlist.info/Era/FactionEraDetails… \n\nSpend two skill advancements: improve one skill of each pilot or improve both skills of one pilot. You cannot improve a single skill twice.\nNegotiate your first contract (complete the contract form)\, grab an opponent\, and head into your first track!\nSupplement your force with unique Battlefield Support Assets or Strikes.\nPlay the game per the objective (random\, via dice roll)\nWe’ll help you record the aftermath and track your Warchest.\n\nNot sure what that means? No problem\, we’d love to teach you!\n\nBeginner friendly; we can provide materials if you don’t have them; feel free to show off your awesome paint jobs.\n\n\n– Entry Fee: $5 per day.\nSchedule:– Arrival/Setup: 11am– Pairings: 12pm– Track 1: 12:30pm– Upkeep: 2:30pm– Pairings: 3pm– Track 2: 3:30pm– Upkeep: 5:30pmResults: 6pm\n \n  \n  \n  \n 
URL:https://comicquest.org/event/battletech-tournament-2/
LOCATION:Comic Quest\, 23811 Bridger #111 CA 92630\, Lake Forest\, CA\, 92630\, United States
CATEGORIES:Battletech,Event,Tournament
ATTACH;FMTTYPE=image/jpeg:https://comicquest.org/wp-content/uploads/2023/03/Battletech_logo.jpg
END:VEVENT
END:VCALENDAR