BEGIN:VCALENDAR
VERSION:2.0
PRODID:-//Comic Quest - ECPv6.15.20//NONSGML v1.0//EN
CALSCALE:GREGORIAN
METHOD:PUBLISH
X-WR-CALNAME:Comic Quest
X-ORIGINAL-URL:https://comicquest.org
X-WR-CALDESC:Events for Comic Quest
REFRESH-INTERVAL;VALUE=DURATION:PT1H
X-Robots-Tag:noindex
X-PUBLISHED-TTL:PT1H
BEGIN:VTIMEZONE
TZID:UTC
BEGIN:STANDARD
TZOFFSETFROM:+0000
TZOFFSETTO:+0000
TZNAME:UTC
DTSTART:20240101T000000
END:STANDARD
END:VTIMEZONE
BEGIN:VEVENT
DTSTART;TZID=UTC:20250907T100000
DTEND;TZID=UTC:20250907T180000
DTSTAMP:20260423T231116
CREATED:20250802T041850Z
LAST-MODIFIED:20250905T073724Z
UID:10002106-1757239200-1757268000@comicquest.org
SUMMARY:Star Wars Shatterpoint Tournament
DESCRIPTION:Star Wars Shatterpoint Tournament \n\n\n\n\n\n\nCome join us at Comic Quest in Lake Forest for a Star Wars Shatterpoint Tournament!\n\n\n\nSunday\, SEPTEMBER 7\n10:00 am = Registration\n10:30 am = Round 1\n\nDetails \n– $15 Entry Fee – All $$ goes to prize pool (All $$ will be given out in store credit with a split between placement and best painted) \n\nEvery participant will get a promotional order card!\n\n– If you have Terrain and a mat\, please bring it or check with TO: Eric Del Priore. \n– You may bring \n\n2 squads (a normal strike force) OR\n4 (a premiere list). If you opt to bring 4 squads\, you must follow the premiere format rules (each squad must be played once).\n\nPlease register on longshanks in advance. Link: https://www.longshanks.org/event/28333/ \nJoin our CQ General Discord\, and scroll to the Star Wars Shatterpoint Channel section. Or Join our Comic Quest Star Wars Shatterpoint Facebook group. \nIn the event of an odd number of players\, the first round bye will be randomly chosen from players arriving after 10:15am
URL:https://comicquest.org/event/star-wars-shatterpoint-tournament-6/
LOCATION:Comic Quest\, 23811 Bridger #111 CA 92630\, Lake Forest\, CA\, 92630\, United States
CATEGORIES:Event,Star Wars Shatterpoint,Tournament
ATTACH;FMTTYPE=image/png:https://comicquest.org/wp-content/uploads/2023/05/shatterpoint_logo.png
END:VEVENT
END:VCALENDAR