BEGIN:VCALENDAR
VERSION:2.0
PRODID:-//Comic Quest - ECPv6.15.20//NONSGML v1.0//EN
CALSCALE:GREGORIAN
METHOD:PUBLISH
X-ORIGINAL-URL:https://comicquest.org
X-WR-CALDESC:Events for Comic Quest
REFRESH-INTERVAL;VALUE=DURATION:PT1H
X-Robots-Tag:noindex
X-PUBLISHED-TTL:PT1H
BEGIN:VTIMEZONE
TZID:UTC
BEGIN:STANDARD
TZOFFSETFROM:+0000
TZOFFSETTO:+0000
TZNAME:UTC
DTSTART:20240101T000000
END:STANDARD
END:VTIMEZONE
BEGIN:VEVENT
DTSTART;TZID=UTC:20251108T093000
DTEND;TZID=UTC:20251108T173000
DTSTAMP:20260423T205456
CREATED:20250610T223725Z
LAST-MODIFIED:20251023T060706Z
UID:10001542-1762594200-1762623000@comicquest.org
SUMMARY:Warhammer 40k RTT Tourney
DESCRIPTION:Comic Quest 40k RTT Tourney \nSaturday NOVEMBER 8 \nWarhammer 40\,000 Gameplay! Come and join the fun! \nSign-ups will be on BCP (Best Coast Pairings). https://www.bestcoastpairings.com/event/TiKU7kyQjkgu?active_tab=overview \nComic Quest 40k 2-Round event \nEntry Fee = $17 \n\n2 round event. Missions and GW terrain layout TBD.\n2\,000 points. All players will receive 10 points for being Battle Ready. (ie: no painting requirement)\n3 hour rounds. 30 minute lunch. Round 1 starts at 10AM. Chess clocks are recommended to keep games on track.\nMORE details at the link above.\n\nSchedule: \n9:30 Setup\n\n10:00-1:00 Round 1\n\n1:00-1:30 Lunch\n\n1:30 - 4:30 Round 2\nPrizes for the top 3… TBD
URL:https://comicquest.org/event/warhammer-40k-rtt-tourney-7/
LOCATION:Comic Quest\, 23811 Bridger #111 CA 92630\, Lake Forest\, CA\, 92630\, United States
CATEGORIES:40K,Event,Tournament
ATTACH;FMTTYPE=image/jpeg:https://comicquest.org/wp-content/uploads/2023/01/40k-logo.jpg
END:VEVENT
END:VCALENDAR