BEGIN:VCALENDAR
VERSION:2.0
PRODID:-//Comic Quest - ECPv6.15.20//NONSGML v1.0//EN
CALSCALE:GREGORIAN
METHOD:PUBLISH
X-WR-CALNAME:Comic Quest
X-ORIGINAL-URL:https://comicquest.org
X-WR-CALDESC:Events for Comic Quest
REFRESH-INTERVAL;VALUE=DURATION:PT1H
X-Robots-Tag:noindex
X-PUBLISHED-TTL:PT1H
BEGIN:VTIMEZONE
TZID:UTC
BEGIN:STANDARD
TZOFFSETFROM:+0000
TZOFFSETTO:+0000
TZNAME:UTC
DTSTART:20250101T000000
END:STANDARD
END:VTIMEZONE
BEGIN:VEVENT
DTSTART;TZID=UTC:20260315T093000
DTEND;TZID=UTC:20260315T180000
DTSTAMP:20260423T141923
CREATED:20260205T032502Z
LAST-MODIFIED:20260308T215418Z
UID:10004231-1773567000-1773597600@comicquest.org
SUMMARY:Star Wars Shatterpoint Tournament
DESCRIPTION:Star Wars Shatterpoint Tournament \n\n\n\n\n\n\nCome join us at Comic Quest in Lake Forest for a Star Wars Shatterpoint Tournament!\n\n\n\nSunday\, March 15\n10:00 am = Registration\n10:30 am = Round 1\n\nDetails \n– $15 Entry Fee – All $$ goes to prize pool (CQ store credit) \n\nEvery participant will get NEW prize promo cards!\n\n– If you have Terrain and a mat\, please bring it or check with TO: Eric Del Priore. \n– You may bring \n\n2 squads (a normal strike force) OR\n4 (a premiere list). If you opt to bring 4 squads\, you must follow the premiere format rules (each squad must be played once).\n\nPlease register on longshanks https://www.longshanks.org/event/32899/ \nJoin our CQ General Discord\, and scroll to the Star Wars Shatterpoint Channel section. https://discord.gg/U5D3r8Zg \nSome key notes:\n– the event is $15 and 100% goes to prizing (store credit)\n– registration is at 10am\, first round is at 10:30am – if we have an odd number we’ll bye from the people who arrived after 10:15\n– you do not need to be experienced – newer players are welcome\, think of this more like 3 paired rounds rather than min-maxing your refined list \nwe also have NEW prizes!!
URL:https://comicquest.org/event/star-wars-shatterpoint-tournament-9/
LOCATION:Comic Quest\, 23811 Bridger #111 CA 92630\, Lake Forest\, CA\, 92630\, United States
CATEGORIES:Event,Star Wars Shatterpoint,Tournament
ATTACH;FMTTYPE=image/png:https://comicquest.org/wp-content/uploads/2023/05/shatterpoint_logo.png
END:VEVENT
END:VCALENDAR