BEGIN:VCALENDAR
VERSION:2.0
PRODID:-//Comic Quest - ECPv6.15.20//NONSGML v1.0//EN
CALSCALE:GREGORIAN
METHOD:PUBLISH
X-ORIGINAL-URL:https://comicquest.org
X-WR-CALDESC:Events for Comic Quest
REFRESH-INTERVAL;VALUE=DURATION:PT1H
X-Robots-Tag:noindex
X-PUBLISHED-TTL:PT1H
BEGIN:VTIMEZONE
TZID:UTC
BEGIN:STANDARD
TZOFFSETFROM:+0000
TZOFFSETTO:+0000
TZNAME:UTC
DTSTART:20250101T000000
END:STANDARD
END:VTIMEZONE
BEGIN:VEVENT
DTSTART;TZID=UTC:20260321T093000
DTEND;TZID=UTC:20260321T193000
DTSTAMP:20260423T142023
CREATED:20260117T000310Z
LAST-MODIFIED:20260316T065006Z
UID:10004216-1774085400-1774121400@comicquest.org
SUMMARY:Warhammer Old World RTT Tourney
DESCRIPTION:Warhammer Old World RTT Tourney\n\n\n\n\n\n\n\n\n\n\n\n\n\n\n\n\n\n\n\n\n\n\nSaturday MARCH 21. \n\n$25 Entry Fee.\nSetup – Begins at 9:30;\nGo time = 10:00am\n\n3 Round RTT Event \nRounds – 2H 45M (+ 30M for lunch) \nPrizes – For the top 3 Players. \nPremium Old World Terrain – Each table is unique! \n\nPainting – There is NO painting requirement for this event\n\nSign up at BCP (Best Coast Pairings) = https://www.bestcoastpairings.com/event/JuEXqotW7Fmr \nMore Details are at the BCP Link. \n\n\n\n\n\n\n\n\n\n\n\n\n\n\n\n\n\n\n\n\n\n\n\n\n\n\n\n\n\n\n\n\n\n\n\n\n\n\n\n 
URL:https://comicquest.org/event/warhammer-old-world-rtt-tourney-7/
LOCATION:Comic Quest\, 23811 Bridger #111 CA 92630\, Lake Forest\, CA\, 92630\, United States
CATEGORIES:Event,Tournament,Warhammer Old World
ATTACH;FMTTYPE=image/png:https://comicquest.org/wp-content/uploads/2024/01/warhammer_old_world_logo.png
END:VEVENT
END:VCALENDAR