BEGIN:VCALENDAR
VERSION:2.0
PRODID:-//Comic Quest - ECPv6.15.20//NONSGML v1.0//EN
CALSCALE:GREGORIAN
METHOD:PUBLISH
X-ORIGINAL-URL:https://comicquest.org
X-WR-CALDESC:Events for Comic Quest
REFRESH-INTERVAL;VALUE=DURATION:PT1H
X-Robots-Tag:noindex
X-PUBLISHED-TTL:PT1H
BEGIN:VTIMEZONE
TZID:UTC
BEGIN:STANDARD
TZOFFSETFROM:+0000
TZOFFSETTO:+0000
TZNAME:UTC
DTSTART:20250101T000000
END:STANDARD
END:VTIMEZONE
BEGIN:VEVENT
DTSTART;VALUE=DATE:20260502
DTEND;VALUE=DATE:20260503
DTSTAMP:20260423T125347
CREATED:20260222T004026Z
LAST-MODIFIED:20260327T225314Z
UID:10003188-1777680000-1777766399@comicquest.org
SUMMARY:FREE Comic Book Day
DESCRIPTION:  \n1st Saturday in May \nFREE Comics\, So many to Choose From \n  \nSale all Day: \n20% OFF Graphic Novels/Manga    (collected comics in book form) \n20% OFF Statues \n20% OFF Toys \n20% OFF Back issues (Except Key Issues) \n20% OFF Board Games \n \n                    \n \n                    \n 
URL:https://comicquest.org/event/free-comic-book-day-4-2/
LOCATION:Comic Quest\, 23811 Bridger #111 CA 92630\, Lake Forest\, CA\, 92630\, United States
CATEGORIES:Event
ATTACH;FMTTYPE=image/jpeg:https://comicquest.org/wp-content/uploads/2023/03/Free_Comic_Book_Day.jpg
END:VEVENT
END:VCALENDAR