BEGIN:VCALENDAR
VERSION:2.0
PRODID:-//Comic Quest - ECPv6.15.20//NONSGML v1.0//EN
CALSCALE:GREGORIAN
METHOD:PUBLISH
X-WR-CALNAME:Comic Quest
X-ORIGINAL-URL:https://comicquest.org
X-WR-CALDESC:Events for Comic Quest
REFRESH-INTERVAL;VALUE=DURATION:PT1H
X-Robots-Tag:noindex
X-PUBLISHED-TTL:PT1H
BEGIN:VTIMEZONE
TZID:UTC
BEGIN:STANDARD
TZOFFSETFROM:+0000
TZOFFSETTO:+0000
TZNAME:UTC
DTSTART:20250101T000000
END:STANDARD
END:VTIMEZONE
BEGIN:VEVENT
DTSTART;VALUE=DATE:20260425
DTEND;VALUE=DATE:20260426
DTSTAMP:20260423T125145
CREATED:20260315T024119Z
LAST-MODIFIED:20260406T214628Z
UID:10004282-1777075200-1777161599@comicquest.org
SUMMARY:Mini Club Turn In - Degenerate Serpentfolk
DESCRIPTION:The new mini club is available. \nDegenerate Serpentfolk \nEvery two months we select a unique miniature\, and offer it for 25% Off for everyone.   Then at the end of the period\, painters turn their miniatures in for an exhibition. Everyone paints the same miniature\, but do in in unique ways.  Color choices\, techniques\, conversation\, etc. \nTurn in is Saturday April 25th
URL:https://comicquest.org/event/mini-club-turn-in-netikerti-nefsokar-mage-2/
LOCATION:Comic Quest\, 23811 Bridger #111 CA 92630\, Lake Forest\, CA\, 92630\, United States
CATEGORIES:Event,Mini Club
ATTACH;FMTTYPE=image/png:https://comicquest.org/wp-content/uploads/2026/03/Degerate-serpentfolk-with-top-banner-1.png
END:VEVENT
BEGIN:VEVENT
DTSTART;TZID=UTC:20260425T100000
DTEND;TZID=UTC:20260425T180000
DTSTAMP:20260423T125145
CREATED:20260205T033747Z
LAST-MODIFIED:20260419T231819Z
UID:10004232-1777111200-1777140000@comicquest.org
SUMMARY:Star Wars Shatterpoint Tournament
DESCRIPTION:Star Wars Shatterpoint Tournament \n\n\n\n\n\n\nCome join us at Comic Quest in Lake Forest for a Star Wars Shatterpoint Tournament!\n\n\n\nSaturday\, April 25\n10:00 am = Registration\n10:30 am = Round 1\n\nDetails \n– $15 Entry Fee – All $$ goes to prize pool (CQ store credit) \n\nEvery participant will get NEW prize promo cards!\nSign up on Longshanks: https://shatterpoint.longshanks.org/event/34116/\n\n– If you have Terrain and a mat\, please bring it or check with TO: Eric Del Priore. \n– You may bring \n\n2 squads (a normal strike force) OR\n4 (a premiere list). If you opt to bring 4 squads\, you must follow the premiere format rules (each squad must be played once).\n\nPlease register on longshanks in advance. Link: https://shatterpoint.longshanks.org/event/34116/ \nJoin our CQ General Discord\, and scroll to the Star Wars Shatterpoint Channel section. https://discord.gg/U5D3r8Zg \nSome key notes:\n– the event is $15 and 100% goes to prizing (store credit)\n– registration is at 10am\, first round is at 10:30am – if we have an odd number we’ll bye from the people who arrived after 10:15\n– you do not need to be experienced – newer players are welcome\, think of this more like 3 paired rounds rather than min-maxing your refined list \nwe also have NEW prizes!!
URL:https://comicquest.org/event/star-wars-shatterpoint-tournament-10/
LOCATION:Comic Quest\, 23811 Bridger #111 CA 92630\, Lake Forest\, CA\, 92630\, United States
CATEGORIES:Event,Star Wars Shatterpoint,Tournament
ATTACH;FMTTYPE=image/png:https://comicquest.org/wp-content/uploads/2023/05/shatterpoint_logo.png
END:VEVENT
BEGIN:VEVENT
DTSTART;TZID=UTC:20260426T093000
DTEND;TZID=UTC:20260426T190000
DTSTAMP:20260423T125145
CREATED:20260116T235137Z
LAST-MODIFIED:20260419T232542Z
UID:10004215-1777195800-1777230000@comicquest.org
SUMMARY:Star Wars Legion Tournament (Casual)
DESCRIPTION:Star Wars Legion Casual Tourney  \nSUNDAY April 26 \n\n3 rounds of Legion with traditional 1000 point armies.\n$10 Dollar Entry fee for prize support.\nSign-Up: Longshanks: https://legion.longshanks.org/event/33728/\n\n**Questions and details refer to our CQ Discord or Facebook group Comic Quest Star Wars Legion (links below) \nSCHEDULE \nCheck In 9:30 am- 9:45 am (15 Minute) \nRound 1\, 9:50 am- 12:30 pm (2 Hour\, 40 Min) \nLunch 12:20pm- 1:20pm (50 Min) \nRound 2\, 1:25pm- 4:05pm (2 Hour\, 40 Min) \nRound 3\, 4:10pm- 6:50pm (2 Hour\, 40 Min) \nJoin our Discord server – scroll down to the Star Wars Legion category: https://discord.gg/rZ4UEjSn \n  \n  \n  \n 
URL:https://comicquest.org/event/star-wars-legion-tournament-casual-5/
LOCATION:Comic Quest\, 23811 Bridger #111 CA 92630\, Lake Forest\, CA\, 92630\, United States
CATEGORIES:Event,Star Wars Legion,Tournament
ATTACH;FMTTYPE=image/png:https://comicquest.org/wp-content/uploads/2023/03/star_wars_legion_image.png
END:VEVENT
END:VCALENDAR